BEGIN:VCALENDAR
VERSION:2.0
PRODID:-//Variety Child Learning Center - ECPv6.15.20//NONSGML v1.0//EN
CALSCALE:GREGORIAN
METHOD:PUBLISH
X-ORIGINAL-URL:https://varietyclc.org
X-WR-CALDESC:Events for Variety Child Learning Center
REFRESH-INTERVAL;VALUE=DURATION:PT1H
X-Robots-Tag:noindex
X-PUBLISHED-TTL:PT1H
BEGIN:VTIMEZONE
TZID:UTC
BEGIN:STANDARD
TZOFFSETFROM:+0000
TZOFFSETTO:+0000
TZNAME:UTC
DTSTART:20240101T000000
END:STANDARD
END:VTIMEZONE
BEGIN:VEVENT
DTSTART;VALUE=DATE:20251104
DTEND;VALUE=DATE:20251105
DTSTAMP:20260424T130111
CREATED:20250721T162734Z
LAST-MODIFIED:20250721T162734Z
UID:8027-1762214400-1762300799@varietyclc.org
SUMMARY:Staff Conference Day - No School
DESCRIPTION:
URL:https://varietyclc.org/event/staff-conference-day-no-school-3/
END:VEVENT
BEGIN:VEVENT
DTSTART;TZID=UTC:20251105T120000
DTEND;TZID=UTC:20251105T130000
DTSTAMP:20260424T130111
CREATED:20251020T150514Z
LAST-MODIFIED:20251020T150514Z
UID:8246-1762344000-1762347600@varietyclc.org
SUMMARY:Supporting Fine & Gross Motor Skills at Home
DESCRIPTION:Supporting Fine & Gross Motor Skills at Home \nPresented By: Lori Christianson\, PT & Melissa Capozzoli-Gschwind\, OT \nWhen: November 5\, 2025\, at 12:00-1:00pm \nThis workshop will be held virtually via Microsoft TEAMs. \nPlease join us to gain understanding as to how to support the development of these skills at home. This presentation explores practical strategies and everyday activities that parents and caregivers can use to support children’s fine and gross motor development at home. It highlights the importance of motor skills in early childhood\, explains the differences between fine and gross motor abilities\, and provides simple\, engaging\, and developmentally appropriate ideas to encourage movement\, coordination\, and dexterity in young children. The goal is to empower families to create supportive environments that promote healthy physical development through play and routine activities. \nCLICK HERE to download a registration form.
URL:https://varietyclc.org/event/supporting-fine-gross-motor-skills-at-home/
END:VEVENT
BEGIN:VEVENT
DTSTART;VALUE=DATE:20251111
DTEND;VALUE=DATE:20251112
DTSTAMP:20260424T130111
CREATED:20250721T162752Z
LAST-MODIFIED:20250721T162752Z
UID:8029-1762819200-1762905599@varietyclc.org
SUMMARY:Veterans Day - No School
DESCRIPTION:
URL:https://varietyclc.org/event/veterans-day-no-school-2/
END:VEVENT
BEGIN:VEVENT
DTSTART;TZID=UTC:20251112T120000
DTEND;TZID=UTC:20251112T130000
DTSTAMP:20260424T130111
CREATED:20251020T150108Z
LAST-MODIFIED:20251020T150216Z
UID:8241-1762948800-1762952400@varietyclc.org
SUMMARY:Introduction to Augmentative and Alternative Communication (AAC)
DESCRIPTION:Held virtually November 12\, 2025\, 12:00 pm – 1:00 pm \nAAC can be used to supplement or compensate for students who experience severe expressive communication\ndifficulties. This workshop will focus on information regarding AAC for parents whose child is not yet speaking\nor might use minimal expressive language. It will cover general information on picture-based systems (low\ntech)\, as well as speech generating devices (high tech). \nSee below for details\, and CLICK HERE to register.
URL:https://varietyclc.org/event/introduction-to-augmentative-and-alternative-communication-aac-2/
END:VEVENT
BEGIN:VEVENT
DTSTART;VALUE=DATE:20251113
DTEND;VALUE=DATE:20251114
DTSTAMP:20260424T130111
CREATED:20251106T152151Z
LAST-MODIFIED:20251106T152151Z
UID:8252-1762992000-1763078399@varietyclc.org
SUMMARY:World Kindness Day
DESCRIPTION:Wear a shirt with words of kindness to celebrate.
URL:https://varietyclc.org/event/world-kindness-day-2/
END:VEVENT
BEGIN:VEVENT
DTSTART;VALUE=DATE:20251125
DTEND;VALUE=DATE:20251126
DTSTAMP:20260424T130111
CREATED:20251015T154141Z
LAST-MODIFIED:20251015T154141Z
UID:8202-1764028800-1764115199@varietyclc.org
SUMMARY:Thanksgiving Feasts
DESCRIPTION:
URL:https://varietyclc.org/event/thanksgiving-feasts/
END:VEVENT
BEGIN:VEVENT
DTSTART;VALUE=DATE:20251127
DTEND;VALUE=DATE:20251129
DTSTAMP:20260424T130111
CREATED:20250721T162814Z
LAST-MODIFIED:20250721T162814Z
UID:8031-1764201600-1764374399@varietyclc.org
SUMMARY:Thanksgiving Recess - No School
DESCRIPTION:
URL:https://varietyclc.org/event/thanksgiving-recess-no-school-2/
END:VEVENT
END:VCALENDAR