BEGIN:VCALENDAR
VERSION:2.0
PRODID:-//Variety Child Learning Center - ECPv6.15.20//NONSGML v1.0//EN
CALSCALE:GREGORIAN
METHOD:PUBLISH
X-WR-CALNAME:Variety Child Learning Center
X-ORIGINAL-URL:https://varietyclc.org
X-WR-CALDESC:Events for Variety Child Learning Center
REFRESH-INTERVAL;VALUE=DURATION:PT1H
X-Robots-Tag:noindex
X-PUBLISHED-TTL:PT1H
BEGIN:VTIMEZONE
TZID:UTC
BEGIN:STANDARD
TZOFFSETFROM:+0000
TZOFFSETTO:+0000
TZNAME:UTC
DTSTART:20230101T000000
END:STANDARD
END:VTIMEZONE
BEGIN:VEVENT
DTSTART;VALUE=DATE:20240701
DTEND;VALUE=DATE:20240702
DTSTAMP:20260423T145710
CREATED:20230711T200106Z
LAST-MODIFIED:20230711T200106Z
UID:5939-1719792000-1719878399@varietyclc.org
SUMMARY:First Day of Summer Program
DESCRIPTION:
URL:https://varietyclc.org/event/first-day-of-summer-program-2/
END:VEVENT
BEGIN:VEVENT
DTSTART;VALUE=DATE:20240704
DTEND;VALUE=DATE:20240705
DTSTAMP:20260423T145710
CREATED:20230711T200141Z
LAST-MODIFIED:20230711T200141Z
UID:5941-1720051200-1720137599@varietyclc.org
SUMMARY:Independence Day No School
DESCRIPTION:
URL:https://varietyclc.org/event/independence-day-no-school/
END:VEVENT
BEGIN:VEVENT
DTSTART;VALUE=DATE:20240705
DTEND;VALUE=DATE:20240706
DTSTAMP:20260423T145710
CREATED:20240701T160719Z
LAST-MODIFIED:20240701T160719Z
UID:7432-1720137600-1720223999@varietyclc.org
SUMMARY:Fun Friday - USA Day!
DESCRIPTION:Wear Red\, White and Blue!
URL:https://varietyclc.org/event/fun-friday-usa-day/
END:VEVENT
BEGIN:VEVENT
DTSTART;TZID=UTC:20240710T110000
DTEND;TZID=UTC:20240710T210000
DTSTAMP:20260423T145710
CREATED:20240624T152513Z
LAST-MODIFIED:20240624T152513Z
UID:7429-1720609200-1720645200@varietyclc.org
SUMMARY:Moe's Southwest Grill Fundraiser
DESCRIPTION:Join us on Wednesday\, July 10\, any time from 11:00 am until 9:00 pm at Moe’s Southwest Grill in Plainview for some great food for a great cause! 35% of each purchase will be donated to Variety Child Learning Center. \nWednesday\, July 10\, 2024\n11:00 am – 9:00 pm \nMoe’s Southwest Grill\n1161 Old Country Road\, Plainview \nCLICK HERE FOR FULL DETAILS.
URL:https://varietyclc.org/event/moes-southwest-grill-fundraiser/
END:VEVENT
BEGIN:VEVENT
DTSTART;VALUE=DATE:20240712
DTEND;VALUE=DATE:20240713
DTSTAMP:20260423T145710
CREATED:20240701T160811Z
LAST-MODIFIED:20240701T160811Z
UID:7434-1720742400-1720828799@varietyclc.org
SUMMARY:Fun Friday - Picnic
DESCRIPTION:Bring in a Teddy Bear to join us for a picnic!
URL:https://varietyclc.org/event/fun-friday-picnic/
END:VEVENT
BEGIN:VEVENT
DTSTART;VALUE=DATE:20240719
DTEND;VALUE=DATE:20240720
DTSTAMP:20260423T145710
CREATED:20240701T160903Z
LAST-MODIFIED:20240701T160903Z
UID:7436-1721347200-1721433599@varietyclc.org
SUMMARY:Fun Friday - Camping
DESCRIPTION:Wear camouflage as we wrap up Camping theme week.
URL:https://varietyclc.org/event/fun-friday-camping/
END:VEVENT
BEGIN:VEVENT
DTSTART;VALUE=DATE:20240726
DTEND;VALUE=DATE:20240727
DTSTAMP:20260423T145710
CREATED:20240701T161030Z
LAST-MODIFIED:20240701T161030Z
UID:7438-1721952000-1722038399@varietyclc.org
SUMMARY:Fun Friday - Under the Sea
DESCRIPTION:Arrrrrr! Dress like a pirate!
URL:https://varietyclc.org/event/fun-friday-under-the-sea/
END:VEVENT
END:VCALENDAR