BEGIN:VCALENDAR
VERSION:2.0
PRODID:-//Variety Child Learning Center - ECPv6.15.20//NONSGML v1.0//EN
CALSCALE:GREGORIAN
METHOD:PUBLISH
X-WR-CALNAME:Variety Child Learning Center
X-ORIGINAL-URL:https://varietyclc.org
X-WR-CALDESC:Events for Variety Child Learning Center
REFRESH-INTERVAL;VALUE=DURATION:PT1H
X-Robots-Tag:noindex
X-PUBLISHED-TTL:PT1H
BEGIN:VTIMEZONE
TZID:UTC
BEGIN:STANDARD
TZOFFSETFROM:+0000
TZOFFSETTO:+0000
TZNAME:UTC
DTSTART:20230101T000000
END:STANDARD
END:VTIMEZONE
BEGIN:VTIMEZONE
TZID:America/New_York
BEGIN:DAYLIGHT
TZOFFSETFROM:-0500
TZOFFSETTO:-0400
TZNAME:EDT
DTSTART:20230312T070000
END:DAYLIGHT
BEGIN:STANDARD
TZOFFSETFROM:-0400
TZOFFSETTO:-0500
TZNAME:EST
DTSTART:20231105T060000
END:STANDARD
BEGIN:DAYLIGHT
TZOFFSETFROM:-0500
TZOFFSETTO:-0400
TZNAME:EDT
DTSTART:20240310T070000
END:DAYLIGHT
BEGIN:STANDARD
TZOFFSETFROM:-0400
TZOFFSETTO:-0500
TZNAME:EST
DTSTART:20241103T060000
END:STANDARD
BEGIN:DAYLIGHT
TZOFFSETFROM:-0500
TZOFFSETTO:-0400
TZNAME:EDT
DTSTART:20250309T070000
END:DAYLIGHT
BEGIN:STANDARD
TZOFFSETFROM:-0400
TZOFFSETTO:-0500
TZNAME:EST
DTSTART:20251102T060000
END:STANDARD
END:VTIMEZONE
BEGIN:VEVENT
DTSTART;VALUE=DATE:20240506
DTEND;VALUE=DATE:20240508
DTSTAMP:20260423T120619
CREATED:20240416T163232Z
LAST-MODIFIED:20240416T163232Z
UID:7289-1714953600-1715126399@varietyclc.org
SUMMARY:Spring Literacy Program
DESCRIPTION:
URL:https://varietyclc.org/event/spring-literacy-program/
END:VEVENT
BEGIN:VEVENT
DTSTART;VALUE=DATE:20240506
DTEND;VALUE=DATE:20240518
DTSTAMP:20260423T120619
CREATED:20240228T192943Z
LAST-MODIFIED:20240228T192943Z
UID:7125-1714953600-1715990399@varietyclc.org
SUMMARY:Cards for a Cause Fundraiser
DESCRIPTION:
URL:https://varietyclc.org/event/cards-for-a-cause-fundraiser/
END:VEVENT
BEGIN:VEVENT
DTSTART;VALUE=DATE:20240507
DTEND;VALUE=DATE:20240509
DTSTAMP:20260423T120619
CREATED:20240228T193043Z
LAST-MODIFIED:20240228T193043Z
UID:7127-1715040000-1715212799@varietyclc.org
SUMMARY:Syosset Mother's/Father's Day Boutique
DESCRIPTION:
URL:https://varietyclc.org/event/syosset-mothers-fathers-day-boutique/
END:VEVENT
BEGIN:VEVENT
DTSTART;VALUE=DATE:20240509
DTEND;VALUE=DATE:20240510
DTSTAMP:20260423T120619
CREATED:20240228T193115Z
LAST-MODIFIED:20240228T193115Z
UID:7129-1715212800-1715299199@varietyclc.org
SUMMARY:Gallow Mother's/Father's Day Boutique
DESCRIPTION:
URL:https://varietyclc.org/event/gallow-mothers-fathers-day-boutique/
END:VEVENT
BEGIN:VEVENT
DTSTART;TZID=UTC:20240509T120000
DTEND;TZID=UTC:20240509T150000
DTSTAMP:20260423T120619
CREATED:20240131T120912Z
LAST-MODIFIED:20240131T120912Z
UID:7004-1715256000-1715266800@varietyclc.org
SUMMARY:Touching Hearts\, Changing Lives Luncheon
DESCRIPTION:Join us for the annual Touching Hearts\, Changing Lives Together Luncheon. \nThursday\, May 9\, 2024\n12:00 – 3:00 PM \nCrest Hollow Country Club\n8325 Jericho Turnpike\, Woodbury\, NY 11797 \nCLICK HERE TO PURCHASE TICKETS. \n  \n \nCLICK HERE TO DOWNLOAD DETAILS. \nCLICK HERE FOR SPONSORSHIP OPPORTUNITIES.
URL:https://varietyclc.org/event/luncheon/
END:VEVENT
BEGIN:VEVENT
DTSTART;TZID=UTC:20240514T120000
DTEND;TZID=UTC:20240514T130000
DTSTAMP:20260423T120619
CREATED:20231213T154450Z
LAST-MODIFIED:20231213T154450Z
UID:6884-1715688000-1715691600@varietyclc.org
SUMMARY:Parent Autism Support Group
DESCRIPTION:The ASD support group provides a welcoming environment for parents and other caregivers of children with ASD to meet\, share experiences\, ask questions\, and receive support and discuss topics of choice. \nThis group will be held once monthly from 12pm-1pm\, the second Tuesday of the month via zoom. \nClick here for details and to register!
URL:https://varietyclc.org/event/parent-autism-support-group-5/
END:VEVENT
BEGIN:VEVENT
DTSTART;VALUE=DATE:20240527
DTEND;VALUE=DATE:20240528
DTSTAMP:20260423T120619
CREATED:20230711T195817Z
LAST-MODIFIED:20230711T195817Z
UID:5931-1716768000-1716854399@varietyclc.org
SUMMARY:Memorial Day No School
DESCRIPTION:
URL:https://varietyclc.org/event/memorial-day-no-school/
END:VEVENT
BEGIN:VEVENT
DTSTART;VALUE=DATE:20240527
DTEND;VALUE=DATE:20240528
DTSTAMP:20260423T120619
CREATED:20230912T213531Z
LAST-MODIFIED:20230912T213531Z
UID:6541-1716768000-1716854399@varietyclc.org
SUMMARY:No School-Memorial Day
DESCRIPTION:
URL:https://varietyclc.org/event/no-school-memorial-day/
END:VEVENT
END:VCALENDAR