BEGIN:VCALENDAR
VERSION:2.0
PRODID:-//Variety Child Learning Center - ECPv6.15.20//NONSGML v1.0//EN
CALSCALE:GREGORIAN
METHOD:PUBLISH
X-ORIGINAL-URL:https://varietyclc.org
X-WR-CALDESC:Events for Variety Child Learning Center
REFRESH-INTERVAL;VALUE=DURATION:PT1H
X-Robots-Tag:noindex
X-PUBLISHED-TTL:PT1H
BEGIN:VTIMEZONE
TZID:UTC
BEGIN:STANDARD
TZOFFSETFROM:+0000
TZOFFSETTO:+0000
TZNAME:UTC
DTSTART:20220101T000000
END:STANDARD
END:VTIMEZONE
BEGIN:VTIMEZONE
TZID:America/New_York
BEGIN:DAYLIGHT
TZOFFSETFROM:-0500
TZOFFSETTO:-0400
TZNAME:EDT
DTSTART:20220313T070000
END:DAYLIGHT
BEGIN:STANDARD
TZOFFSETFROM:-0400
TZOFFSETTO:-0500
TZNAME:EST
DTSTART:20221106T060000
END:STANDARD
BEGIN:DAYLIGHT
TZOFFSETFROM:-0500
TZOFFSETTO:-0400
TZNAME:EDT
DTSTART:20230312T070000
END:DAYLIGHT
BEGIN:STANDARD
TZOFFSETFROM:-0400
TZOFFSETTO:-0500
TZNAME:EST
DTSTART:20231105T060000
END:STANDARD
BEGIN:DAYLIGHT
TZOFFSETFROM:-0500
TZOFFSETTO:-0400
TZNAME:EDT
DTSTART:20240310T070000
END:DAYLIGHT
BEGIN:STANDARD
TZOFFSETFROM:-0400
TZOFFSETTO:-0500
TZNAME:EST
DTSTART:20241103T060000
END:STANDARD
BEGIN:DAYLIGHT
TZOFFSETFROM:-0500
TZOFFSETTO:-0400
TZNAME:EDT
DTSTART:20250309T070000
END:DAYLIGHT
BEGIN:STANDARD
TZOFFSETFROM:-0400
TZOFFSETTO:-0500
TZNAME:EST
DTSTART:20251102T060000
END:STANDARD
END:VTIMEZONE
BEGIN:VEVENT
DTSTART;TZID=UTC:20231203T160000
DTEND;TZID=UTC:20231203T190000
DTSTAMP:20260423T164710
CREATED:20231115T175922Z
LAST-MODIFIED:20231115T175922Z
UID:6804-1701619200-1701630000@varietyclc.org
SUMMARY:Holiday Lighting Spectacular
DESCRIPTION:Celebrate the season at the Syosset Woodbury Chamber of Commerce Holiday Lighting Spectacular with music\, merriment and a visit from Santa! \nVariety Child Learning Center will be participating in support of the Syosset community. \nSunday\, December 3\, 2023\n4:00-7:00 p.m.\nJackson Avenue\, Syosset
URL:https://varietyclc.org/event/holiday-lighting-spectacular/
END:VEVENT
BEGIN:VEVENT
DTSTART;TZID=UTC:20231204T170000
DTEND;TZID=UTC:20240101T230000
DTSTAMP:20260423T164710
CREATED:20231204T174524Z
LAST-MODIFIED:20231204T174524Z
UID:6847-1701709200-1704150000@varietyclc.org
SUMMARY:Holiday Lights Display
DESCRIPTION:Be sure to drive by to view this incredible Holiday Lights Display and make a donation to Variety Child Learning Center!
URL:https://varietyclc.org/event/holiday-lights-display/
END:VEVENT
BEGIN:VEVENT
DTSTART;TZID=UTC:20231213T110000
DTEND;TZID=UTC:20231213T120000
DTSTAMP:20260423T164710
CREATED:20231109T181537Z
LAST-MODIFIED:20231109T181537Z
UID:6778-1702465200-1702468800@varietyclc.org
SUMMARY:Preschool Holiday Performance
DESCRIPTION:Join us on Wednesday\, December 13\, at 11:00 a.m. in the Gallow gym for a special holiday performance! \nClick here for details and to RSVP.
URL:https://varietyclc.org/event/preschool-holiday-performance/
END:VEVENT
BEGIN:VEVENT
DTSTART;VALUE=DATE:20231218
DTEND;VALUE=DATE:20231223
DTSTAMP:20260423T164710
CREATED:20231201T181707Z
LAST-MODIFIED:20231201T181707Z
UID:6842-1702857600-1703289599@varietyclc.org
SUMMARY:Syosset Spirit Week
DESCRIPTION:We’re celebrating the season with a Happy Holidays Spirit Week in Syosset! \nMonday\, 12/18 – Merry Morning Monday\nStay cozy in pajamas\, sweatpants or your favorite comfy clothes (school appropriate). \nTuesday\, 12/19 – Do You Want to Build a Snowman?\nHoping for snow! Wear white or any other snowy color or dress like a snowman. \nWednesday\, 12/20 – Grinch Day\nDress like you’re from Whoville or wear green/Grinch themed clothes. \nThursday\, 12/21 – You Are a Gift Day\nDress up like a present (ribbon\, bows\, bags\, wrapping paper\, etc. – be creative!). \nFriday\, 12/22 – Festive Friday\nWear festive clothing! Your favorite holiday colors\, hat\, scarf\, cozy socks\, etc.
URL:https://varietyclc.org/event/syosset-spirit-week/
END:VEVENT
BEGIN:VEVENT
DTSTART;VALUE=DATE:20231225
DTEND;VALUE=DATE:20240102
DTSTAMP:20260423T164710
CREATED:20230627T230804Z
LAST-MODIFIED:20230627T230804Z
UID:5828-1703462400-1704153599@varietyclc.org
SUMMARY:School Closed-Holiday Recess
DESCRIPTION:
URL:https://varietyclc.org/event/school-closed-holiday-recess/
END:VEVENT
BEGIN:VEVENT
DTSTART;TZID=UTC:20231227T093000
DTEND;TZID=UTC:20231227T233000
DTSTAMP:20260423T164710
CREATED:20231113T180157Z
LAST-MODIFIED:20231113T180157Z
UID:6795-1703669400-1703719800@varietyclc.org
SUMMARY:Winter Break Playdate
DESCRIPTION:Join Variety families for a morning of fun during the winter break\, sponsored by the Family Association. \nWednesday\, December 27\n9:30 A.M. – 11:30 A.M. \n$10 per VCLC student\n$15 per sibling and other children\n* Admission fee partly paid for with funds raised by the VCLC Family Association * \nActive Kidz\n 200 Robbins Lane Jericho\, NY 11753\n(Located on the far corner in the rear of the building) \nCLICK HERE FOR DETAILS AND TO RSVP.
URL:https://varietyclc.org/event/winter-break-playdate/
END:VEVENT
END:VCALENDAR