BEGIN:VCALENDAR
VERSION:2.0
PRODID:-//Variety Child Learning Center - ECPv6.15.20//NONSGML v1.0//EN
CALSCALE:GREGORIAN
METHOD:PUBLISH
X-WR-CALNAME:Variety Child Learning Center
X-ORIGINAL-URL:https://varietyclc.org
X-WR-CALDESC:Events for Variety Child Learning Center
REFRESH-INTERVAL;VALUE=DURATION:PT1H
X-Robots-Tag:noindex
X-PUBLISHED-TTL:PT1H
BEGIN:VTIMEZONE
TZID:America/New_York
BEGIN:DAYLIGHT
TZOFFSETFROM:-0500
TZOFFSETTO:-0400
TZNAME:EDT
DTSTART:20220313T070000
END:DAYLIGHT
BEGIN:STANDARD
TZOFFSETFROM:-0400
TZOFFSETTO:-0500
TZNAME:EST
DTSTART:20221106T060000
END:STANDARD
BEGIN:DAYLIGHT
TZOFFSETFROM:-0500
TZOFFSETTO:-0400
TZNAME:EDT
DTSTART:20230312T070000
END:DAYLIGHT
BEGIN:STANDARD
TZOFFSETFROM:-0400
TZOFFSETTO:-0500
TZNAME:EST
DTSTART:20231105T060000
END:STANDARD
BEGIN:DAYLIGHT
TZOFFSETFROM:-0500
TZOFFSETTO:-0400
TZNAME:EDT
DTSTART:20240310T070000
END:DAYLIGHT
BEGIN:STANDARD
TZOFFSETFROM:-0400
TZOFFSETTO:-0500
TZNAME:EST
DTSTART:20241103T060000
END:STANDARD
END:VTIMEZONE
BEGIN:VTIMEZONE
TZID:UTC
BEGIN:STANDARD
TZOFFSETFROM:+0000
TZOFFSETTO:+0000
TZNAME:UTC
DTSTART:20220101T000000
END:STANDARD
END:VTIMEZONE
BEGIN:VEVENT
DTSTART;VALUE=DATE:20230814
DTEND;VALUE=DATE:20230904
DTSTAMP:20260423T123253
CREATED:20230627T230800Z
LAST-MODIFIED:20230627T230800Z
UID:5811-1691971200-1693785599@varietyclc.org
SUMMARY:School Closed
DESCRIPTION:
URL:https://varietyclc.org/event/school-closed-3/
END:VEVENT
BEGIN:VEVENT
DTSTART;VALUE=DATE:20230904
DTEND;VALUE=DATE:20230905
DTSTAMP:20260423T123253
CREATED:20230627T230800Z
LAST-MODIFIED:20230627T230800Z
UID:5813-1693785600-1693871999@varietyclc.org
SUMMARY:No School
DESCRIPTION:
URL:https://varietyclc.org/event/no-school-5/
END:VEVENT
BEGIN:VEVENT
DTSTART;VALUE=DATE:20230905
DTEND;VALUE=DATE:20230906
DTSTAMP:20260423T123253
CREATED:20230627T230801Z
LAST-MODIFIED:20230627T230801Z
UID:5816-1693872000-1693958399@varietyclc.org
SUMMARY:School Closed
DESCRIPTION:
URL:https://varietyclc.org/event/school-closed-4/
END:VEVENT
BEGIN:VEVENT
DTSTART;VALUE=DATE:20230905
DTEND;VALUE=DATE:20230906
DTSTAMP:20260423T123253
CREATED:20230627T230801Z
LAST-MODIFIED:20230627T230801Z
UID:5818-1693872000-1693958399@varietyclc.org
SUMMARY:Staff Development Day
DESCRIPTION:
URL:https://varietyclc.org/event/staff-development-day/
END:VEVENT
BEGIN:VEVENT
DTSTART;VALUE=DATE:20230906
DTEND;VALUE=DATE:20230907
DTSTAMP:20260423T123253
CREATED:20230831T212045Z
LAST-MODIFIED:20230831T212045Z
UID:6490-1693958400-1694044799@varietyclc.org
SUMMARY:First Day of School
DESCRIPTION:
URL:https://varietyclc.org/event/first-day-of-school/
END:VEVENT
BEGIN:VEVENT
DTSTART;VALUE=DATE:20230906
DTEND;VALUE=DATE:20230907
DTSTAMP:20260423T123253
CREATED:20230831T212045Z
LAST-MODIFIED:20230831T212045Z
UID:6491-1693958400-1694044799@varietyclc.org
SUMMARY:First Day of School
DESCRIPTION:
URL:https://varietyclc.org/event/first-day-of-school-2/
END:VEVENT
BEGIN:VEVENT
DTSTART;TZID=America/New_York:20230920T120000
DTEND;TZID=America/New_York:20230920T130000
DTSTAMP:20260423T123253
CREATED:20230912T213529Z
LAST-MODIFIED:20230912T213529Z
UID:6529-1695211200-1695214800@varietyclc.org
SUMMARY:Parent Guide to IEP-Virtually CENTERBASED CHILDREN ONLY
DESCRIPTION:
URL:https://varietyclc.org/event/parent-guide-to-iep-virtually-centerbased-children-only/
END:VEVENT
BEGIN:VEVENT
DTSTART;TZID=UTC:20230920T120000
DTEND;TZID=UTC:20230920T133000
DTSTAMP:20260423T123253
CREATED:20230912T150337Z
LAST-MODIFIED:20230912T150337Z
UID:6524-1695211200-1695216600@varietyclc.org
SUMMARY:Parent Guide to IEPs
DESCRIPTION:With Barbara Pirnat\, MS/Ed\, Director of EI\, SEIS\, Related Services\, Evaluations and Placement \nIEP\, annual reviews\, related services\, ESY? What does it allmean? This workshop will help you understand your child’sIEP. Come join us to discuss the components of an IEP andhelp you better understand the information included in an IEP. \n*Please note: this workshop is held for families of VCLC center-based students* \nTo attend\, please return to Heather Crean in Syosset\, Maria Freemanin Levittown\, or Stacy Greenberg in Karopczyc. For questions and information\, contact Heather Crean at hcrean@vclc.org
URL:https://varietyclc.org/event/parent-guide-to-ieps/
ATTACH;FMTTYPE=:
END:VEVENT
BEGIN:VEVENT
DTSTART;VALUE=DATE:20230925
DTEND;VALUE=DATE:20230926
DTSTAMP:20260423T123253
CREATED:20230627T230802Z
LAST-MODIFIED:20230627T230802Z
UID:5822-1695600000-1695686399@varietyclc.org
SUMMARY:School Closed Yom Kippur
DESCRIPTION:
URL:https://varietyclc.org/event/school-closed-yom-kippur-2/
END:VEVENT
BEGIN:VEVENT
DTSTART;VALUE=DATE:20230925
DTEND;VALUE=DATE:20230926
DTSTAMP:20260423T123253
CREATED:20230912T213529Z
LAST-MODIFIED:20230912T213529Z
UID:6530-1695600000-1695686399@varietyclc.org
SUMMARY:No School-Yom Kippur
DESCRIPTION:
URL:https://varietyclc.org/event/no-school-yom-kippur/
END:VEVENT
END:VCALENDAR