BEGIN:VCALENDAR
VERSION:2.0
PRODID:-//Variety Child Learning Center - ECPv6.15.20//NONSGML v1.0//EN
CALSCALE:GREGORIAN
METHOD:PUBLISH
X-WR-CALNAME:Variety Child Learning Center
X-ORIGINAL-URL:https://varietyclc.org
X-WR-CALDESC:Events for Variety Child Learning Center
REFRESH-INTERVAL;VALUE=DURATION:PT1H
X-Robots-Tag:noindex
X-PUBLISHED-TTL:PT1H
BEGIN:VTIMEZONE
TZID:UTC
BEGIN:STANDARD
TZOFFSETFROM:+0000
TZOFFSETTO:+0000
TZNAME:UTC
DTSTART:20220101T000000
END:STANDARD
END:VTIMEZONE
BEGIN:VTIMEZONE
TZID:America/New_York
BEGIN:DAYLIGHT
TZOFFSETFROM:-0500
TZOFFSETTO:-0400
TZNAME:EDT
DTSTART:20220313T070000
END:DAYLIGHT
BEGIN:STANDARD
TZOFFSETFROM:-0400
TZOFFSETTO:-0500
TZNAME:EST
DTSTART:20221106T060000
END:STANDARD
BEGIN:DAYLIGHT
TZOFFSETFROM:-0500
TZOFFSETTO:-0400
TZNAME:EDT
DTSTART:20230312T070000
END:DAYLIGHT
BEGIN:STANDARD
TZOFFSETFROM:-0400
TZOFFSETTO:-0500
TZNAME:EST
DTSTART:20231105T060000
END:STANDARD
BEGIN:DAYLIGHT
TZOFFSETFROM:-0500
TZOFFSETTO:-0400
TZNAME:EDT
DTSTART:20240310T070000
END:DAYLIGHT
BEGIN:STANDARD
TZOFFSETFROM:-0400
TZOFFSETTO:-0500
TZNAME:EST
DTSTART:20241103T060000
END:STANDARD
END:VTIMEZONE
BEGIN:VEVENT
DTSTART;VALUE=DATE:20230804
DTEND;VALUE=DATE:20230805
DTSTAMP:20260423T111359
CREATED:20230711T195044Z
LAST-MODIFIED:20230711T195044Z
UID:5919-1691107200-1691193599@varietyclc.org
SUMMARY:Friday fun day: Wear your favorite sports team jersey
DESCRIPTION:
URL:https://varietyclc.org/event/friday-fun-day-wear-your-favorite-sports-team-jersey/
END:VEVENT
BEGIN:VEVENT
DTSTART;VALUE=DATE:20230807
DTEND;VALUE=DATE:20230808
DTSTAMP:20260423T111359
CREATED:20230711T195117Z
LAST-MODIFIED:20230711T195117Z
UID:5921-1691366400-1691452799@varietyclc.org
SUMMARY:Week of August 7: Carnival theme
DESCRIPTION:
URL:https://varietyclc.org/event/week-of-august-7-carnival-theme/
END:VEVENT
BEGIN:VEVENT
DTSTART;TZID=UTC:20230809T160000
DTEND;TZID=UTC:20230809T220000
DTSTAMP:20260423T111359
CREATED:20230731T210908Z
LAST-MODIFIED:20230731T210908Z
UID:6111-1691596800-1691618400@varietyclc.org
SUMMARY:Fundraiser at Hurricane Grill & Wings
DESCRIPTION:Join us on August 9th from 4:00 PM to closing at Hurricane Grill & Wings located at 275 Jericho Turnpike\, Syosset\, NY 11791.  15% of all proceeds from food with be donated to VCLC.
URL:https://varietyclc.org/event/fundraiser-at-hurricane-grill-wings/
ATTACH;FMTTYPE=:
END:VEVENT
BEGIN:VEVENT
DTSTART;VALUE=DATE:20230811
DTEND;VALUE=DATE:20230812
DTSTAMP:20260423T111359
CREATED:20230627T230800Z
LAST-MODIFIED:20230627T230800Z
UID:5809-1691712000-1691798399@varietyclc.org
SUMMARY:Last Day of Summer Program
DESCRIPTION:
URL:https://varietyclc.org/event/last-day-of-summer-program/
END:VEVENT
BEGIN:VEVENT
DTSTART;VALUE=DATE:20230811
DTEND;VALUE=DATE:20230812
DTSTAMP:20260423T111359
CREATED:20230711T195226Z
LAST-MODIFIED:20230711T195226Z
UID:5923-1691712000-1691798399@varietyclc.org
SUMMARY:Friday fun day: Tie-Dye day!
DESCRIPTION:
URL:https://varietyclc.org/event/friday-fun-day-tie-dye-day/
END:VEVENT
BEGIN:VEVENT
DTSTART;VALUE=DATE:20230814
DTEND;VALUE=DATE:20230904
DTSTAMP:20260423T111359
CREATED:20230627T230800Z
LAST-MODIFIED:20230627T230800Z
UID:5811-1691971200-1693785599@varietyclc.org
SUMMARY:School Closed
DESCRIPTION:
URL:https://varietyclc.org/event/school-closed-3/
END:VEVENT
END:VCALENDAR