BEGIN:VCALENDAR
VERSION:2.0
PRODID:-//Variety Child Learning Center - ECPv6.15.20//NONSGML v1.0//EN
CALSCALE:GREGORIAN
METHOD:PUBLISH
X-ORIGINAL-URL:https://varietyclc.org
X-WR-CALDESC:Events for Variety Child Learning Center
REFRESH-INTERVAL;VALUE=DURATION:PT1H
X-Robots-Tag:noindex
X-PUBLISHED-TTL:PT1H
BEGIN:VTIMEZONE
TZID:UTC
BEGIN:STANDARD
TZOFFSETFROM:+0000
TZOFFSETTO:+0000
TZNAME:UTC
DTSTART:20240101T000000
END:STANDARD
END:VTIMEZONE
BEGIN:VEVENT
DTSTART;VALUE=DATE:20250923
DTEND;VALUE=DATE:20250925
DTSTAMP:20260423T220506
CREATED:20250721T162613Z
LAST-MODIFIED:20250721T162613Z
UID:8021-1758585600-1758758399@varietyclc.org
SUMMARY:Rosh Hashanah - No School
DESCRIPTION:
URL:https://varietyclc.org/event/rosh-hashanah-no-school-2/
END:VEVENT
BEGIN:VEVENT
DTSTART;TZID=UTC:20250929T180000
DTEND;TZID=UTC:20250929T200000
DTSTAMP:20260423T220506
CREATED:20250917T144019Z
LAST-MODIFIED:20250917T144019Z
UID:8096-1759168800-1759176000@varietyclc.org
SUMMARY:Back-to-School Nights - Syosset & Gallow
DESCRIPTION:6:00-6:45 Meet the therapists \n6:45-7:45 Meet the teachers
URL:https://varietyclc.org/event/back-to-school-nights-syosset-gallow/
END:VEVENT
BEGIN:VEVENT
DTSTART;TZID=UTC:20250930T091500
DTEND;TZID=UTC:20250930T101500
DTSTAMP:20260423T220506
CREATED:20250912T151956Z
LAST-MODIFIED:20250912T151956Z
UID:8081-1759223700-1759227300@varietyclc.org
SUMMARY:VCLC Family Association Meeting
DESCRIPTION:Please join us for the first meeting of the Family Association! \nWhen: Tuesday\, September 30th at 9:15am \nWhere: VCLC Syosset\, 47 Humphrey Drive\, Syosset \nTo respond\, please email familyassociation@vclc.org. \nWe look forward to meeting you! \n\nStacey Trotti\, LCSW              Delaney Langbart\, LMSW              Jodi Hilt\, LMSW\nSyosset                                    Syosset                                             Levittown\nstrotti@vclc.org                    dlangbart@vclc.org                           jhilt@vclc.org \n 
URL:https://varietyclc.org/event/vclc-family-association-meeting/
END:VEVENT
BEGIN:VEVENT
DTSTART;TZID=UTC:20250930T180000
DTEND;TZID=UTC:20250930T200000
DTSTAMP:20260423T220506
CREATED:20250917T144100Z
LAST-MODIFIED:20250917T144100Z
UID:8098-1759255200-1759262400@varietyclc.org
SUMMARY:Back-to-School Night - Bellerose
DESCRIPTION:6:00-6:45 Meet the therapists \n6:45-7:45 Meet the teachers
URL:https://varietyclc.org/event/back-to-school-night-bellerose/
END:VEVENT
BEGIN:VEVENT
DTSTART;VALUE=DATE:20251002
DTEND;VALUE=DATE:20251003
DTSTAMP:20260423T220506
CREATED:20250721T162652Z
LAST-MODIFIED:20250721T162652Z
UID:8023-1759363200-1759449599@varietyclc.org
SUMMARY:Yom Kippur - No School
DESCRIPTION:
URL:https://varietyclc.org/event/yom-kippur-no-school/
END:VEVENT
BEGIN:VEVENT
DTSTART;TZID=UTC:20251005T100000
DTEND;TZID=UTC:20251005T130000
DTSTAMP:20260423T220506
CREATED:20250815T124543Z
LAST-MODIFIED:20250910T155536Z
UID:8071-1759658400-1759669200@varietyclc.org
SUMMARY:2nd Annual Boo! Walk
DESCRIPTION:CLICK HERE FOR REGISTRATION AND SPONSORSHIP OPPORTUNITIES.
URL:https://varietyclc.org/event/2nd-annual-boo-walk/
END:VEVENT
BEGIN:VEVENT
DTSTART;VALUE=DATE:20251013
DTEND;VALUE=DATE:20251014
DTSTAMP:20260423T220506
CREATED:20250721T162715Z
LAST-MODIFIED:20250721T162715Z
UID:8025-1760313600-1760399999@varietyclc.org
SUMMARY:Columbus Day - No School
DESCRIPTION:
URL:https://varietyclc.org/event/columbus-day-no-school-2/
END:VEVENT
BEGIN:VEVENT
DTSTART;VALUE=DATE:20251015
DTEND;VALUE=DATE:20251017
DTSTAMP:20260423T220506
CREATED:20251015T152120Z
LAST-MODIFIED:20251015T152120Z
UID:8174-1760486400-1760659199@varietyclc.org
SUMMARY:Gallow Fall Literacy Event
DESCRIPTION:
URL:https://varietyclc.org/event/gallow-fall-literacy-event/
END:VEVENT
BEGIN:VEVENT
DTSTART;TZID=UTC:20251016T183000
DTEND;TZID=UTC:20251016T193000
DTSTAMP:20260423T220506
CREATED:20250912T153048Z
LAST-MODIFIED:20250912T153048Z
UID:8083-1760639400-1760643000@varietyclc.org
SUMMARY:La Importancia del Juego en la Primera Infancia Presentación en Español
DESCRIPTION:LA IMPORTANCIA DEL JUEGO EN LA PRIMERA INFANCIA \nPRESENTACIÓN EN ESPAÑOL EN VCLC LEVITTOWN \nPRESENTADO POR LA EDUCADORA BILINGÜE MARTHA RATNER \nEn la escuela de Gallow – Aula 102 \n72 Farmedge Road\, Levittown NY 11756 \nFecha:16 de octubre\, 6:30 – 7:30 PM \nEl juego es la herramienta de aprendizaje más importante durante los primeros años de su hijo. Además de ser divertido\, los niños aprenden sobre el mundo que los rodea y tienen la oportunidad de aprender y practicar habilidades académicas\, sociales\, lingüísticas y físicas. \nPor favor\, únase a mí para aprender sobre los materiales simples que se pueden utilizar en el juego dentro del hogar. Aprenda las diferentes tareas que se pueden lograr con los materiales\, cómo establecer y expandir el lenguaje\, y mejorar las habilidades motoras finas y gruesas de su hijo. \n*Este es un evento solo para adultos.* \nHaz clic aquí para ver el folleto. \nPreguntas? Comuníquese con: \nMartha Ratner- mratner@vclc.org \nAriana Ebel- aebel@vclc.org
URL:https://varietyclc.org/event/la-importancia-del-juego-en-la-primera-infancia-presentacion-en-espanol/
END:VEVENT
BEGIN:VEVENT
DTSTART;VALUE=DATE:20251020
DTEND;VALUE=DATE:20251021
DTSTAMP:20260423T220506
CREATED:20251015T152013Z
LAST-MODIFIED:20251015T152013Z
UID:8170-1760918400-1761004799@varietyclc.org
SUMMARY:Wear Red for Fire Prevention Month
DESCRIPTION:
URL:https://varietyclc.org/event/wear-red-for-fire-prevention-month/
END:VEVENT
BEGIN:VEVENT
DTSTART;VALUE=DATE:20251022
DTEND;VALUE=DATE:20251023
DTSTAMP:20260423T220506
CREATED:20251015T152036Z
LAST-MODIFIED:20251015T152036Z
UID:8172-1761091200-1761177599@varietyclc.org
SUMMARY:Wear Red for Fire Prevention Month
DESCRIPTION:
URL:https://varietyclc.org/event/wear-red-for-fire-prevention-month-2/
END:VEVENT
BEGIN:VEVENT
DTSTART;TZID=UTC:20251022T163000
DTEND;TZID=UTC:20251022T180000
DTSTAMP:20260423T220506
CREATED:20250912T154450Z
LAST-MODIFIED:20251006T185708Z
UID:8087-1761150600-1761156000@varietyclc.org
SUMMARY:Trunk-or-Treat
DESCRIPTION:Save the Date! The VCLC Trunk-or-Treat will take place on Wednesday\, 10/22\, at 4:30 in the Syosset parking lot. Rain date 10/23. CLICK HERE FOR DETAILS!
URL:https://varietyclc.org/event/trunk-or-treat-3/
END:VEVENT
BEGIN:VEVENT
DTSTART;VALUE=DATE:20251024
DTEND;VALUE=DATE:20251025
DTSTAMP:20260423T220506
CREATED:20251010T172046Z
LAST-MODIFIED:20251010T172046Z
UID:8167-1761264000-1761350399@varietyclc.org
SUMMARY:Spooktacular Halloween
DESCRIPTION:
URL:https://varietyclc.org/event/spooktacular-halloween-2/
END:VEVENT
BEGIN:VEVENT
DTSTART;VALUE=DATE:20251027
DTEND;VALUE=DATE:20251029
DTSTAMP:20260423T220506
CREATED:20251015T152216Z
LAST-MODIFIED:20251015T152216Z
UID:8176-1761523200-1761695999@varietyclc.org
SUMMARY:Bellerose Fall Festival & Pumpkin Patch
DESCRIPTION:
URL:https://varietyclc.org/event/bellerose-fall-festival-pumpkin-patch/
END:VEVENT
BEGIN:VEVENT
DTSTART;VALUE=DATE:20251029
DTEND;VALUE=DATE:20251031
DTSTAMP:20260423T220506
CREATED:20251015T152250Z
LAST-MODIFIED:20251015T152250Z
UID:8178-1761696000-1761868799@varietyclc.org
SUMMARY:Syosset Fall Festival
DESCRIPTION:
URL:https://varietyclc.org/event/syosset-fall-festival/
END:VEVENT
BEGIN:VEVENT
DTSTART;VALUE=DATE:20251031
DTEND;VALUE=DATE:20251101
DTSTAMP:20260423T220506
CREATED:20251015T152516Z
LAST-MODIFIED:20251016T155833Z
UID:8180-1761868800-1761955199@varietyclc.org
SUMMARY:Halloween Parades
DESCRIPTION:Bellerose: 10:00 am \nGallow: 1:00 pm \nSyosset: 10:00 am for the following classes – \n\nJennifer\nJordyn\nMaryAnn\nShanna\nLuAnn R\nAlly\nDan\nMolly\nBrea\nAmy B\nLogan\n\nSyosset: 1:00 pm for the following classes – \n\nLaura O\nNicole\nAnnMarie\nClara\nStacey\nKim B\nKim D\nDebbie\nLaura D\nMelissa
URL:https://varietyclc.org/event/halloween-parades/
END:VEVENT
BEGIN:VEVENT
DTSTART;VALUE=DATE:20251104
DTEND;VALUE=DATE:20251105
DTSTAMP:20260423T220506
CREATED:20250721T162734Z
LAST-MODIFIED:20250721T162734Z
UID:8027-1762214400-1762300799@varietyclc.org
SUMMARY:Staff Conference Day - No School
DESCRIPTION:
URL:https://varietyclc.org/event/staff-conference-day-no-school-3/
END:VEVENT
BEGIN:VEVENT
DTSTART;TZID=UTC:20251105T120000
DTEND;TZID=UTC:20251105T130000
DTSTAMP:20260423T220506
CREATED:20251020T150514Z
LAST-MODIFIED:20251020T150514Z
UID:8246-1762344000-1762347600@varietyclc.org
SUMMARY:Supporting Fine & Gross Motor Skills at Home
DESCRIPTION:Supporting Fine & Gross Motor Skills at Home \nPresented By: Lori Christianson\, PT & Melissa Capozzoli-Gschwind\, OT \nWhen: November 5\, 2025\, at 12:00-1:00pm \nThis workshop will be held virtually via Microsoft TEAMs. \nPlease join us to gain understanding as to how to support the development of these skills at home. This presentation explores practical strategies and everyday activities that parents and caregivers can use to support children’s fine and gross motor development at home. It highlights the importance of motor skills in early childhood\, explains the differences between fine and gross motor abilities\, and provides simple\, engaging\, and developmentally appropriate ideas to encourage movement\, coordination\, and dexterity in young children. The goal is to empower families to create supportive environments that promote healthy physical development through play and routine activities. \nCLICK HERE to download a registration form.
URL:https://varietyclc.org/event/supporting-fine-gross-motor-skills-at-home/
END:VEVENT
BEGIN:VEVENT
DTSTART;VALUE=DATE:20251111
DTEND;VALUE=DATE:20251112
DTSTAMP:20260423T220506
CREATED:20250721T162752Z
LAST-MODIFIED:20250721T162752Z
UID:8029-1762819200-1762905599@varietyclc.org
SUMMARY:Veterans Day - No School
DESCRIPTION:
URL:https://varietyclc.org/event/veterans-day-no-school-2/
END:VEVENT
BEGIN:VEVENT
DTSTART;TZID=UTC:20251112T120000
DTEND;TZID=UTC:20251112T130000
DTSTAMP:20260423T220506
CREATED:20251020T150108Z
LAST-MODIFIED:20251020T150216Z
UID:8241-1762948800-1762952400@varietyclc.org
SUMMARY:Introduction to Augmentative and Alternative Communication (AAC)
DESCRIPTION:Held virtually November 12\, 2025\, 12:00 pm – 1:00 pm \nAAC can be used to supplement or compensate for students who experience severe expressive communication\ndifficulties. This workshop will focus on information regarding AAC for parents whose child is not yet speaking\nor might use minimal expressive language. It will cover general information on picture-based systems (low\ntech)\, as well as speech generating devices (high tech). \nSee below for details\, and CLICK HERE to register.
URL:https://varietyclc.org/event/introduction-to-augmentative-and-alternative-communication-aac-2/
END:VEVENT
BEGIN:VEVENT
DTSTART;VALUE=DATE:20251113
DTEND;VALUE=DATE:20251114
DTSTAMP:20260423T220506
CREATED:20251106T152151Z
LAST-MODIFIED:20251106T152151Z
UID:8252-1762992000-1763078399@varietyclc.org
SUMMARY:World Kindness Day
DESCRIPTION:Wear a shirt with words of kindness to celebrate.
URL:https://varietyclc.org/event/world-kindness-day-2/
END:VEVENT
BEGIN:VEVENT
DTSTART;VALUE=DATE:20251125
DTEND;VALUE=DATE:20251126
DTSTAMP:20260423T220506
CREATED:20251015T154141Z
LAST-MODIFIED:20251015T154141Z
UID:8202-1764028800-1764115199@varietyclc.org
SUMMARY:Thanksgiving Feasts
DESCRIPTION:
URL:https://varietyclc.org/event/thanksgiving-feasts/
END:VEVENT
BEGIN:VEVENT
DTSTART;VALUE=DATE:20251127
DTEND;VALUE=DATE:20251129
DTSTAMP:20260423T220506
CREATED:20250721T162814Z
LAST-MODIFIED:20250721T162814Z
UID:8031-1764201600-1764374399@varietyclc.org
SUMMARY:Thanksgiving Recess - No School
DESCRIPTION:
URL:https://varietyclc.org/event/thanksgiving-recess-no-school-2/
END:VEVENT
BEGIN:VEVENT
DTSTART;VALUE=DATE:20251205
DTEND;VALUE=DATE:20251206
DTSTAMP:20260423T220506
CREATED:20251202T193845Z
LAST-MODIFIED:20251202T193845Z
UID:8260-1764892800-1764979199@varietyclc.org
SUMMARY:VCLC Spirit Day
DESCRIPTION:
URL:https://varietyclc.org/event/vclc-spirit-day/
END:VEVENT
BEGIN:VEVENT
DTSTART;VALUE=DATE:20251215
DTEND;VALUE=DATE:20251216
DTSTAMP:20260423T220506
CREATED:20251202T194011Z
LAST-MODIFIED:20251202T194011Z
UID:8262-1765756800-1765843199@varietyclc.org
SUMMARY:Polar Express/Pajama Day
DESCRIPTION:
URL:https://varietyclc.org/event/polar-express-pajama-day/
END:VEVENT
BEGIN:VEVENT
DTSTART;VALUE=DATE:20251216
DTEND;VALUE=DATE:20251217
DTSTAMP:20260423T220506
CREATED:20251202T194055Z
LAST-MODIFIED:20251202T194055Z
UID:8264-1765843200-1765929599@varietyclc.org
SUMMARY:Candy Cane Day - Wear red and white or stripes
DESCRIPTION:
URL:https://varietyclc.org/event/candy-cane-day-wear-red-and-white-or-stripes/
END:VEVENT
BEGIN:VEVENT
DTSTART;VALUE=DATE:20251217
DTEND;VALUE=DATE:20251218
DTSTAMP:20260423T220506
CREATED:20251202T194208Z
LAST-MODIFIED:20251202T194208Z
UID:8268-1765929600-1766015999@varietyclc.org
SUMMARY:Crazy Hat Day
DESCRIPTION:
URL:https://varietyclc.org/event/crazy-hat-day/
END:VEVENT
BEGIN:VEVENT
DTSTART;VALUE=DATE:20251217
DTEND;VALUE=DATE:20251220
DTSTAMP:20260423T220506
CREATED:20251015T154249Z
LAST-MODIFIED:20251015T154249Z
UID:8206-1765929600-1766188799@varietyclc.org
SUMMARY:Gallow Holiday Parties
DESCRIPTION:
URL:https://varietyclc.org/event/gallow-holiday-parties/
END:VEVENT
BEGIN:VEVENT
DTSTART;VALUE=DATE:20251217
DTEND;VALUE=DATE:20251220
DTSTAMP:20260423T220506
CREATED:20251015T154320Z
LAST-MODIFIED:20251015T154320Z
UID:8208-1765929600-1766188799@varietyclc.org
SUMMARY:Gallow Book Fair
DESCRIPTION:
URL:https://varietyclc.org/event/gallow-book-fair/
END:VEVENT
BEGIN:VEVENT
DTSTART;VALUE=DATE:20251218
DTEND;VALUE=DATE:20251219
DTSTAMP:20260423T220506
CREATED:20251202T194257Z
LAST-MODIFIED:20251202T194257Z
UID:8270-1766016000-1766102399@varietyclc.org
SUMMARY:Snowflake Day - Wear blue\, white\, silver or snowflakes
DESCRIPTION:
URL:https://varietyclc.org/event/snowflake-day-wear-blue-white-silver-or-snowflakes/
END:VEVENT
END:VCALENDAR