BEGIN:VCALENDAR
VERSION:2.0
PRODID:-//Variety Child Learning Center - ECPv6.15.20//NONSGML v1.0//EN
CALSCALE:GREGORIAN
METHOD:PUBLISH
X-WR-CALNAME:Variety Child Learning Center
X-ORIGINAL-URL:https://varietyclc.org
X-WR-CALDESC:Events for Variety Child Learning Center
REFRESH-INTERVAL;VALUE=DURATION:PT1H
X-Robots-Tag:noindex
X-PUBLISHED-TTL:PT1H
BEGIN:VTIMEZONE
TZID:UTC
BEGIN:STANDARD
TZOFFSETFROM:+0000
TZOFFSETTO:+0000
TZNAME:UTC
DTSTART:20210101T000000
END:STANDARD
END:VTIMEZONE
BEGIN:VEVENT
DTSTART;VALUE=DATE:20220414
DTEND;VALUE=DATE:20220423
DTSTAMP:20260423T231930
CREATED:20220407T160532Z
LAST-MODIFIED:20220407T160532Z
UID:1301-1649894400-1650671999@varietyclc.org
SUMMARY:Spring Recess: No School!
DESCRIPTION:For all who celebrate\, we wish you a happy and healthy Ramadan\, Passover and Easter.
URL:https://varietyclc.org/event/spring-recess-no-school/
END:VEVENT
BEGIN:VEVENT
DTSTART;VALUE=DATE:20220411
DTEND;VALUE=DATE:20220412
DTSTAMP:20260423T231930
CREATED:20220407T160712Z
LAST-MODIFIED:20220407T160712Z
UID:1307-1649635200-1649721599@varietyclc.org
SUMMARY:National Pet Day
DESCRIPTION:Have your children bring in photos of their pets to share with the class. Teach them about what pets need. Give your pets the extra appreciation they deserve on this day!
URL:https://varietyclc.org/event/national-pet-day/
END:VEVENT
BEGIN:VEVENT
DTSTART;VALUE=DATE:20220406
DTEND;VALUE=DATE:20220407
DTSTAMP:20260423T231930
CREATED:20220407T160640Z
LAST-MODIFIED:20220407T160640Z
UID:1305-1649203200-1649289599@varietyclc.org
SUMMARY:National Walking Day
DESCRIPTION:Put on your comfortable shoes and take your class out for a walk. FYI! 30 Minutes of walking everyday can have a great impact on your overall health.
URL:https://varietyclc.org/event/national-walking-day/
END:VEVENT
BEGIN:VEVENT
DTSTART;VALUE=DATE:20220401
DTEND;VALUE=DATE:20220402
DTSTAMP:20260423T231930
CREATED:20220407T160605Z
LAST-MODIFIED:20220407T160605Z
UID:1303-1648771200-1648857599@varietyclc.org
SUMMARY:April Fool’s Day
DESCRIPTION:
URL:https://varietyclc.org/event/april-fools-day/
END:VEVENT
END:VCALENDAR