BEGIN:VCALENDAR
VERSION:2.0
PRODID:-//Variety Child Learning Center - ECPv6.15.20//NONSGML v1.0//EN
CALSCALE:GREGORIAN
METHOD:PUBLISH
X-WR-CALNAME:Variety Child Learning Center
X-ORIGINAL-URL:https://varietyclc.org
X-WR-CALDESC:Events for Variety Child Learning Center
REFRESH-INTERVAL;VALUE=DURATION:PT1H
X-Robots-Tag:noindex
X-PUBLISHED-TTL:PT1H
BEGIN:VTIMEZONE
TZID:UTC
BEGIN:STANDARD
TZOFFSETFROM:+0000
TZOFFSETTO:+0000
TZNAME:UTC
DTSTART:20230101T000000
END:STANDARD
END:VTIMEZONE
BEGIN:VEVENT
DTSTART;TZID=UTC:20241026T180000
DTEND;TZID=UTC:20241026T200000
DTSTAMP:20260423T150205
CREATED:20241010T111548Z
LAST-MODIFIED:20241010T111548Z
UID:7591-1729965600-1729972800@varietyclc.org
SUMMARY:3rd Annual Spooktacular Halloween Fundraiser
DESCRIPTION:The Cortes and Riccio families are excited to announce the 3rd Annual Spooktacular Halloween Fundraiser!\n\nOctober 26\, 2024\, from 6 to 8 pm. \nIf you can’t make it\, have no fear! The light show is running every day from now to October 31\, 2024. Sundays – Thursdays until 10pm and Friday & Saturday until 11pm.\n\nBoth 11 & 14 Winding Lane are accepting donations on behalf of Variety Child Learning Center.
URL:https://varietyclc.org/event/3rd-annual-spooktacular-halloween-fundraiser/
END:VEVENT
BEGIN:VEVENT
DTSTART;VALUE=DATE:20241029
DTEND;VALUE=DATE:20241031
DTSTAMP:20260423T150205
CREATED:20241024T152412Z
LAST-MODIFIED:20241024T152412Z
UID:7612-1730160000-1730332799@varietyclc.org
SUMMARY:Fall Festival
DESCRIPTION:
URL:https://varietyclc.org/event/fall-festival/
END:VEVENT
BEGIN:VEVENT
DTSTART;VALUE=DATE:20241031
DTEND;VALUE=DATE:20241101
DTSTAMP:20260423T150205
CREATED:20241021T215924Z
LAST-MODIFIED:20241021T215924Z
UID:7607-1730332800-1730419199@varietyclc.org
SUMMARY:VCLC Halloween Parades
DESCRIPTION:Syosset Fall Parade – First Parade at 10 a.m.\, Second Parade at 1 p.m.\nLevittown Parade – 1 p.m.\n\nAll of the children are invited to wear their favorite costume or street clothes – both are fine! The parade will take place outdoors in front of the school. We look forward to seeing you there!
URL:https://varietyclc.org/event/vclc-halloween-parades/
END:VEVENT
BEGIN:VEVENT
DTSTART;VALUE=DATE:20241105
DTEND;VALUE=DATE:20241106
DTSTAMP:20260423T150205
CREATED:20240924T115244Z
LAST-MODIFIED:20240924T115244Z
UID:7538-1730764800-1730851199@varietyclc.org
SUMMARY:Staff Conference Day - No School
DESCRIPTION:
URL:https://varietyclc.org/event/staff-conference-day-no-school/
END:VEVENT
BEGIN:VEVENT
DTSTART;VALUE=DATE:20241111
DTEND;VALUE=DATE:20241112
DTSTAMP:20260423T150205
CREATED:20240924T115424Z
LAST-MODIFIED:20240924T115424Z
UID:7540-1731283200-1731369599@varietyclc.org
SUMMARY:Veterans' Day - No School
DESCRIPTION:
URL:https://varietyclc.org/event/veterans-day-no-school/
END:VEVENT
BEGIN:VEVENT
DTSTART;VALUE=DATE:20241113
DTEND;VALUE=DATE:20241114
DTSTAMP:20260423T150205
CREATED:20241106T132602Z
LAST-MODIFIED:20241106T132602Z
UID:7656-1731456000-1731542399@varietyclc.org
SUMMARY:World Kindness Day
DESCRIPTION:
URL:https://varietyclc.org/event/world-kindness-day/
END:VEVENT
BEGIN:VEVENT
DTSTART;VALUE=DATE:20241118
DTEND;VALUE=DATE:20241123
DTSTAMP:20260423T150205
CREATED:20241106T132513Z
LAST-MODIFIED:20241106T132513Z
UID:7654-1731888000-1732319999@varietyclc.org
SUMMARY:Spirit Week
DESCRIPTION:Our November Spirit Week is sure to be fun! \n11/18: Fall Day (dress in fall colors)\n11/19: Sports Day\n11/20: Dress your Best\n11/21: School Spirit Day\n11/22: Pajama Day
URL:https://varietyclc.org/event/spirit-week-2/
END:VEVENT
BEGIN:VEVENT
DTSTART;TZID=UTC:20241119T110000
DTEND;TZID=UTC:20241119T200000
DTSTAMP:20260423T150205
CREATED:20241030T111426Z
LAST-MODIFIED:20241030T111426Z
UID:7645-1732014000-1732046400@varietyclc.org
SUMMARY:Anthony's Coal Fired Pizza Give Back Night
DESCRIPTION:
URL:https://varietyclc.org/event/anthonys-coal-fired-pizza-give-back-night/
END:VEVENT
BEGIN:VEVENT
DTSTART;VALUE=DATE:20241126
DTEND;VALUE=DATE:20241127
DTSTAMP:20260423T150205
CREATED:20241106T132623Z
LAST-MODIFIED:20241106T132623Z
UID:7658-1732579200-1732665599@varietyclc.org
SUMMARY:Thanksgiving Feast
DESCRIPTION:
URL:https://varietyclc.org/event/thanksgiving-feast-2/
END:VEVENT
BEGIN:VEVENT
DTSTART;VALUE=DATE:20241127
DTEND;VALUE=DATE:20241130
DTSTAMP:20260423T150205
CREATED:20240924T115500Z
LAST-MODIFIED:20240924T115500Z
UID:7542-1732665600-1732924799@varietyclc.org
SUMMARY:Thanksgiving Recess - No School
DESCRIPTION:
URL:https://varietyclc.org/event/thanksgiving-recess-no-school/
END:VEVENT
BEGIN:VEVENT
DTSTART;VALUE=DATE:20241216
DTEND;VALUE=DATE:20241221
DTSTAMP:20260423T150205
CREATED:20241202T170013Z
LAST-MODIFIED:20241202T170013Z
UID:7682-1734307200-1734739199@varietyclc.org
SUMMARY:December Spirit Week
DESCRIPTION:Celebrate the holiday season with Spirit Week! \nMonday 12/16 – Polar Express Day – Wear pajamas and be cozy for the Polar Express\nTuesday 12/17 – Candy Cane Day – Wear red and white or stripes\nWednesday 12/18 – Favorite Character Day – Dress as your favorite character\nThursday 12/19 – Winter Wonderland Day – Dress in blue/white/silver and/or snowflakes\nFriday 12/20 – Ugly Sweater Day – Wear your favorite ugly sweater
URL:https://varietyclc.org/event/december-spirit-week/
END:VEVENT
BEGIN:VEVENT
DTSTART;VALUE=DATE:20241223
DTEND;VALUE=DATE:20250101
DTSTAMP:20260423T150205
CREATED:20240924T115613Z
LAST-MODIFIED:20240924T115613Z
UID:7544-1734912000-1735689599@varietyclc.org
SUMMARY:Holiday Recess - No School
DESCRIPTION:
URL:https://varietyclc.org/event/holiday-recess-no-school/
END:VEVENT
BEGIN:VEVENT
DTSTART;VALUE=DATE:20241223
DTEND;VALUE=DATE:20250102
DTSTAMP:20260423T150205
CREATED:20241202T170050Z
LAST-MODIFIED:20241202T170050Z
UID:7684-1734912000-1735775999@varietyclc.org
SUMMARY:Winter Break - No School
DESCRIPTION:
URL:https://varietyclc.org/event/winter-break-no-school/
END:VEVENT
BEGIN:VEVENT
DTSTART;TZID=UTC:20241227T100000
DTEND;TZID=UTC:20241227T120000
DTSTAMP:20260423T150205
CREATED:20241202T170418Z
LAST-MODIFIED:20241202T170418Z
UID:7686-1735293600-1735300800@varietyclc.org
SUMMARY:Winter Playdate
DESCRIPTION:Join us at Active Kidz to have fun with VCLC friends during the break! \nVariety Winter Break Playdate\nSponsored by the Family Association \nFriday\, December 27\n10am – 12pm \n$10 per VCLC student\n$15 per sibling and other children\n* Admission fee partly paid for with funds raised by the VCLC Family Association * \nActive Kidz\n200 Robbins Lane\nJericho\, NY 11753 \nCLICK HERE for more details and RSVP form. Must be submitted by December 18!
URL:https://varietyclc.org/event/winter-playdate/
END:VEVENT
BEGIN:VEVENT
DTSTART;VALUE=DATE:20250101
DTEND;VALUE=DATE:20250102
DTSTAMP:20260423T150205
CREATED:20240924T115646Z
LAST-MODIFIED:20240924T115646Z
UID:7546-1735689600-1735775999@varietyclc.org
SUMMARY:New Year's Day - No School
DESCRIPTION:
URL:https://varietyclc.org/event/new-years-day-no-school/
END:VEVENT
BEGIN:VEVENT
DTSTART;VALUE=DATE:20250120
DTEND;VALUE=DATE:20250121
DTSTAMP:20260423T150205
CREATED:20240924T115718Z
LAST-MODIFIED:20240924T115718Z
UID:7548-1737331200-1737417599@varietyclc.org
SUMMARY:Martin Luther King Jr. Day - No School
DESCRIPTION:
URL:https://varietyclc.org/event/martin-luther-king-jr-day-no-school/
END:VEVENT
BEGIN:VEVENT
DTSTART;VALUE=DATE:20250129
DTEND;VALUE=DATE:20250130
DTSTAMP:20260423T150205
CREATED:20240924T115743Z
LAST-MODIFIED:20240924T115743Z
UID:7550-1738108800-1738195199@varietyclc.org
SUMMARY:Lunar New Year - No School
DESCRIPTION:
URL:https://varietyclc.org/event/lunar-new-year-no-school/
END:VEVENT
BEGIN:VEVENT
DTSTART;VALUE=DATE:20250205
DTEND;VALUE=DATE:20250208
DTSTAMP:20260423T150205
CREATED:20250114T190831Z
LAST-MODIFIED:20250202T132348Z
UID:7720-1738713600-1738972799@varietyclc.org
SUMMARY:Syosset Winter Wonderland Festival
DESCRIPTION:Save the Date for the Winter Wonderland Festival at our Syosset Campus! \nWednesday\, February 5:\n10-10:30 am – Jessica\, Laura O. and Kim B.’s Classes\n11-11:30 am – Angelique and Amy B.’s Classes\n1-1:30 pm – Kim D.\, Ally and Ann Marie’s Classes \nThursday\, February 6:\n10-10:30 am – Shanna\, MaryAnn and Bonnie’s Classes\n11-11:30 am – Luann\, Jordyn and Lisa’s Classes\n1-1:30 pm – Claire\, Janine and Laura D.’s Classes \nFriday\, February 7:\n10-10:30 am – Lindsay\, Nicole and Melissa’s Classes\n11-11:30 am – Amanda and Debbie’s Classes
URL:https://varietyclc.org/event/syosset-winter-wonderland-festival/
END:VEVENT
BEGIN:VEVENT
DTSTART;VALUE=DATE:20250210
DTEND;VALUE=DATE:20250215
DTSTAMP:20260423T150205
CREATED:20250114T190756Z
LAST-MODIFIED:20250114T190756Z
UID:7718-1739145600-1739577599@varietyclc.org
SUMMARY:Spirit Week
DESCRIPTION:Our first Spirit Week of 2025 at Variety Child Learning Center! \nMonday – Jersey Day – wear your favorite team apparel to celebrate the Super Bowl \nTuesday – Positivity Day – wear a shirt with a positive quote on it \nWednesday – 100th Day of School! \nThursday- Wear Red for Heart Health Awareness Month \nFriday- P.S. I Love You Day – wear purple for mental health awareness and to spread kindness
URL:https://varietyclc.org/event/spirit-week-3/
END:VEVENT
BEGIN:VEVENT
DTSTART;VALUE=DATE:20250217
DTEND;VALUE=DATE:20250222
DTSTAMP:20260423T150205
CREATED:20240924T115820Z
LAST-MODIFIED:20240924T115820Z
UID:7552-1739750400-1740182399@varietyclc.org
SUMMARY:Winter Recess - No School
DESCRIPTION:
URL:https://varietyclc.org/event/winter-recess-no-school-2/
END:VEVENT
BEGIN:VEVENT
DTSTART;VALUE=DATE:20250227
DTEND;VALUE=DATE:20250228
DTSTAMP:20260423T150205
CREATED:20250114T190855Z
LAST-MODIFIED:20250114T190855Z
UID:7722-1740614400-1740700799@varietyclc.org
SUMMARY:Syosset Dentist Visit
DESCRIPTION:
URL:https://varietyclc.org/event/syosset-dentist-visit/
END:VEVENT
BEGIN:VEVENT
DTSTART;VALUE=DATE:20250414
DTEND;VALUE=DATE:20250419
DTSTAMP:20260423T150205
CREATED:20240924T115857Z
LAST-MODIFIED:20240924T115857Z
UID:7554-1744588800-1745020799@varietyclc.org
SUMMARY:Spring Recess - No School
DESCRIPTION:
URL:https://varietyclc.org/event/spring-recess-no-school-2/
END:VEVENT
BEGIN:VEVENT
DTSTART;VALUE=DATE:20250421
DTEND;VALUE=DATE:20250422
DTSTAMP:20260423T150205
CREATED:20240924T120045Z
LAST-MODIFIED:20240924T120045Z
UID:7556-1745193600-1745279999@varietyclc.org
SUMMARY:Staff Conference Day - No School
DESCRIPTION:
URL:https://varietyclc.org/event/staff-conference-day-no-school-2/
END:VEVENT
BEGIN:VEVENT
DTSTART;TZID=UTC:20250508T110000
DTEND;TZID=UTC:20250508T140000
DTSTAMP:20260423T150205
CREATED:20240731T144636Z
LAST-MODIFIED:20250202T132604Z
UID:7454-1746702000-1746712800@varietyclc.org
SUMMARY:Touching Hearts\, Changing Lives Together Luncheon
DESCRIPTION:Join us for the annual Touching Hearts\, Changing Lives Together Luncheon on Thursday\, May 8\, 2025\, from 11am-2pm at the Crest Hollow Country Club. Click here for sponsorship information.
URL:https://varietyclc.org/event/luncheon2025/
END:VEVENT
BEGIN:VEVENT
DTSTART;VALUE=DATE:20250526
DTEND;VALUE=DATE:20250527
DTSTAMP:20260423T150205
CREATED:20240924T120157Z
LAST-MODIFIED:20240924T120157Z
UID:7558-1748217600-1748303999@varietyclc.org
SUMMARY:Memorial Day - No School
DESCRIPTION:
URL:https://varietyclc.org/event/memorial-day-no-school-2/
END:VEVENT
BEGIN:VEVENT
DTSTART;VALUE=DATE:20250604
DTEND;VALUE=DATE:20250605
DTSTAMP:20260423T150205
CREATED:20250530T180641Z
LAST-MODIFIED:20250530T201028Z
UID:7933-1748995200-1749081599@varietyclc.org
SUMMARY:Staff Appreciation Day - Syosset
DESCRIPTION:
URL:https://varietyclc.org/event/staff-appreciation-luncheon/
END:VEVENT
BEGIN:VEVENT
DTSTART;VALUE=DATE:20250605
DTEND;VALUE=DATE:20250606
DTSTAMP:20260423T150205
CREATED:20250530T201049Z
LAST-MODIFIED:20250530T201049Z
UID:7942-1749081600-1749167999@varietyclc.org
SUMMARY:Staff Appreciation Day - Levittown
DESCRIPTION:
URL:https://varietyclc.org/event/staff-appreciation-day-levittown/
END:VEVENT
BEGIN:VEVENT
DTSTART;VALUE=DATE:20250609
DTEND;VALUE=DATE:20250610
DTSTAMP:20260423T150205
CREATED:20250530T180743Z
LAST-MODIFIED:20250530T180743Z
UID:7937-1749427200-1749513599@varietyclc.org
SUMMARY:Donald Duck Day
DESCRIPTION:Students will celebrate by coloring a birthday card for Donald Duck!
URL:https://varietyclc.org/event/donald-duck-day/
END:VEVENT
BEGIN:VEVENT
DTSTART;VALUE=DATE:20250619
DTEND;VALUE=DATE:20250620
DTSTAMP:20260423T150205
CREATED:20240924T120225Z
LAST-MODIFIED:20240924T120225Z
UID:7560-1750291200-1750377599@varietyclc.org
SUMMARY:Juneteenth - No School
DESCRIPTION:
URL:https://varietyclc.org/event/juneteenth-no-school-2/
END:VEVENT
BEGIN:VEVENT
DTSTART;VALUE=DATE:20250623
DTEND;VALUE=DATE:20250627
DTSTAMP:20260423T150205
CREATED:20250530T181014Z
LAST-MODIFIED:20250530T181014Z
UID:7939-1750636800-1750982399@varietyclc.org
SUMMARY:Family Fun Days
DESCRIPTION:Celebrate the end of an amazing school year with Family Fun Day for each class – schedule as follows: \n\n\nMonday\, June 23\n9:30-9:45 Classrooms\, 9:45-10:15 Gym – Jessica\, Lisa\, LuAnn R.\n10:45-11:00 Classrooms\, 11:00-11:30 Gym – Angelique\, Kim D. \n\n\nTuesday\, June 24\n9:30-9:45 Classrooms\, 9:45-10:15 Gym – Nicole\, Kim B.\, Lindsay\n10:45-11:00 Classrooms\, 11:00-11:30 Gym – Clara\, Janine\, Amy B. \n\n\nWednesday\, June 25\n9:30-9:45 Classrooms\, 9:45-10:15 Gym – Shanna\, MaryAnn\, Bonnie\n10:45-11:00 Classrooms\, 11:00-11:30 Gym – Laura D.\, Jordyn\, Melissa \n\n\nThursday\, June 26\n9:30-9:45 Classrooms\, 9:45-10:15 Gym – Ally\, Laura O.\, AnnMarie\n10:45-11:00 Classrooms\, 11:00-11:30 Gym – Amanda\, Debbie \n\n\n 
URL:https://varietyclc.org/event/family-fun-days/
END:VEVENT
END:VCALENDAR