BEGIN:VCALENDAR
VERSION:2.0
PRODID:-//Variety Child Learning Center - ECPv6.15.20//NONSGML v1.0//EN
CALSCALE:GREGORIAN
METHOD:PUBLISH
X-ORIGINAL-URL:https://varietyclc.org
X-WR-CALDESC:Events for Variety Child Learning Center
REFRESH-INTERVAL;VALUE=DURATION:PT1H
X-Robots-Tag:noindex
X-PUBLISHED-TTL:PT1H
BEGIN:VTIMEZONE
TZID:UTC
BEGIN:STANDARD
TZOFFSETFROM:+0000
TZOFFSETTO:+0000
TZNAME:UTC
DTSTART:20220101T000000
END:STANDARD
END:VTIMEZONE
BEGIN:VTIMEZONE
TZID:America/New_York
BEGIN:DAYLIGHT
TZOFFSETFROM:-0500
TZOFFSETTO:-0400
TZNAME:EDT
DTSTART:20220313T070000
END:DAYLIGHT
BEGIN:STANDARD
TZOFFSETFROM:-0400
TZOFFSETTO:-0500
TZNAME:EST
DTSTART:20221106T060000
END:STANDARD
BEGIN:DAYLIGHT
TZOFFSETFROM:-0500
TZOFFSETTO:-0400
TZNAME:EDT
DTSTART:20230312T070000
END:DAYLIGHT
BEGIN:STANDARD
TZOFFSETFROM:-0400
TZOFFSETTO:-0500
TZNAME:EST
DTSTART:20231105T060000
END:STANDARD
BEGIN:DAYLIGHT
TZOFFSETFROM:-0500
TZOFFSETTO:-0400
TZNAME:EDT
DTSTART:20240310T070000
END:DAYLIGHT
BEGIN:STANDARD
TZOFFSETFROM:-0400
TZOFFSETTO:-0500
TZNAME:EST
DTSTART:20241103T060000
END:STANDARD
END:VTIMEZONE
BEGIN:VEVENT
DTSTART;TZID=UTC:20231004T180000
DTEND;TZID=UTC:20231004T193000
DTSTAMP:20260423T215927
CREATED:20231002T153559Z
LAST-MODIFIED:20231002T153559Z
UID:6638-1696442400-1696447800@varietyclc.org
SUMMARY:Back to School Night
DESCRIPTION:Join for Back to School Night in our Syosset and Levittown locations! \nWednesday\, October 4\, 2023\n6:00-7:30 p.m. \nMeet your child’s teachers and related service therapists\, learn about your child’s day and curriculum\, see their classroom and sign up for parent-teacher conferences. \nCLICK HERE FOR SYOSSET DETAILS. \nCLICK HERE FOR LEVITTOWN DETAILS.
URL:https://varietyclc.org/event/back-to-school-night/
END:VEVENT
BEGIN:VEVENT
DTSTART;TZID=UTC:20231006T080000
DTEND;TZID=UTC:20231006T180000
DTSTAMP:20260423T215927
CREATED:20231002T152825Z
LAST-MODIFIED:20231002T152825Z
UID:6633-1696579200-1696615200@varietyclc.org
SUMMARY:Prestige Fundraiser Due
DESCRIPTION:All order forms and payments for the Prestige fundraiser are due today.
URL:https://varietyclc.org/event/prestige-fundraiser-due/
END:VEVENT
BEGIN:VEVENT
DTSTART;VALUE=DATE:20231009
DTEND;VALUE=DATE:20231010
DTSTAMP:20260423T215927
CREATED:20230627T230802Z
LAST-MODIFIED:20230627T230802Z
UID:5823-1696809600-1696895999@varietyclc.org
SUMMARY:No School- Columbus Day
DESCRIPTION:
URL:https://varietyclc.org/event/no-school-6/
END:VEVENT
BEGIN:VEVENT
DTSTART;VALUE=DATE:20231020
DTEND;VALUE=DATE:20231021
DTSTAMP:20260423T215927
CREATED:20231019T145705Z
LAST-MODIFIED:20231019T145705Z
UID:6699-1697760000-1697846399@varietyclc.org
SUMMARY:Gallow Spirit Day
DESCRIPTION:Wear PINK to help promote Breast Cancer Awareness.
URL:https://varietyclc.org/event/gallow-spirit-day/
END:VEVENT
BEGIN:VEVENT
DTSTART;VALUE=DATE:20231023
DTEND;VALUE=DATE:20231028
DTSTAMP:20260423T215927
CREATED:20231016T171300Z
LAST-MODIFIED:20231016T171300Z
UID:6681-1698019200-1698451199@varietyclc.org
SUMMARY:Syosset & Karopczyc Spirit Week!
DESCRIPTION:Our first Spirit Week of the school year will take place October 23-27 at Syosset and Karopczyc locations. \nMonday 10/23 – Flannel and Plaid Day\nWear something flannel or with a plaid print. \nTuesday 10/24 – Pajama Day\nWear your favorite pajamas to school (no slippers please). \nWednesday 10/25 – Wacky Wednesday\nWear your wackiest outfit. \nThursday 10/26 – Breast Cancer Awareness Day\nWear pink to show your support. \nFriday 10/27 – Halloween Spirit Day\nWear orange and black or your favorite Halloween shirt.
URL:https://varietyclc.org/event/spirit-week/
END:VEVENT
BEGIN:VEVENT
DTSTART;VALUE=DATE:20231024
DTEND;VALUE=DATE:20231026
DTSTAMP:20260423T215927
CREATED:20231019T152744Z
LAST-MODIFIED:20231019T152744Z
UID:6703-1698105600-1698278399@varietyclc.org
SUMMARY:Fall Literacy Program
DESCRIPTION:Join us on October 24 & 25 in Syosset for our Fall Literacy Program. \n\n\n\n\nEach class will visit the Library where: \n\nWe will read a Fall story together!\nPlay in some Fall leaves (fabric ones)\nGo to the pumpkin patch and pick a pumpkin\n\nCLICK HERE FOR FULL DETAILS.
URL:https://varietyclc.org/event/fall-literacy-program/
END:VEVENT
BEGIN:VEVENT
DTSTART;TZID=UTC:20231025T100000
DTEND;TZID=UTC:20231025T110000
DTSTAMP:20260423T215927
CREATED:20231005T162327Z
LAST-MODIFIED:20231005T162327Z
UID:6653-1698228000-1698231600@varietyclc.org
SUMMARY:Virtual Grandparents' Group
DESCRIPTION:Join us for the opportunity to discuss concerns\, share ideas and gain information! \nThe group will meet for four sessions via Zoom. \nWednesdays\, October 25\, November 1\, November 8 and November 15.\n10:00 – 11:00 A.M. \nCLICK HERE FOR DETAILS. \nIf you have any questions\, please call Angela Hamel\, Social Worker\, VCLC Family Services\, at 516-921-7171\, Extension 2179.
URL:https://varietyclc.org/event/virtual-grandparents-group/
END:VEVENT
BEGIN:VEVENT
DTSTART;TZID=UTC:20231025T163000
DTEND;TZID=UTC:20231025T180000
DTSTAMP:20260423T215927
CREATED:20231002T152444Z
LAST-MODIFIED:20231002T152444Z
UID:6628-1698251400-1698256800@varietyclc.org
SUMMARY:Trunk or Treat
DESCRIPTION:Join us for Variety Child Learning Center’s Halloween Celebration! \nTrunk or Treat\nWednesday\, October 25\, 2023\n4:30-6:00 p.m.\nVCLC Syosset Parking Log \nVCLC students and their siblings are invited to attend this free event featuring treats\, games and outdoor fun. \nCLICK HERE FOR FULL DETAILS. \nRSVP to FamilyAssociation@VCLC.org by October 10. \nRain Date: October 26.
URL:https://varietyclc.org/event/trunk-or-treat/
END:VEVENT
BEGIN:VEVENT
DTSTART;VALUE=DATE:20231027
DTEND;VALUE=DATE:20231028
DTSTAMP:20260423T215927
CREATED:20231019T145747Z
LAST-MODIFIED:20231019T145747Z
UID:6701-1698364800-1698451199@varietyclc.org
SUMMARY:Gallow Spirit Day
DESCRIPTION:It’s spooky season! Wear black and orange or a Halloween shirt.
URL:https://varietyclc.org/event/gallow-spirit-day-2/
END:VEVENT
BEGIN:VEVENT
DTSTART;TZID=UTC:20231027T080000
DTEND;TZID=UTC:20231027T170000
DTSTAMP:20260423T215927
CREATED:20231016T170749Z
LAST-MODIFIED:20231016T170749Z
UID:6678-1698393600-1698426000@varietyclc.org
SUMMARY:Fire Truck Visit
DESCRIPTION:The Bethpage Fire Department will visit our Gallow location to discuss fire safety. \nCheck back for time and details!
URL:https://varietyclc.org/event/fire-truck-visit/
END:VEVENT
BEGIN:VEVENT
DTSTART;TZID=UTC:20231028T180000
DTEND;TZID=UTC:20231028T200000
DTSTAMP:20260423T215927
CREATED:20231018T203929Z
LAST-MODIFIED:20231018T203929Z
UID:6694-1698516000-1698523200@varietyclc.org
SUMMARY:Spooktacular Halloween
DESCRIPTION:
URL:https://varietyclc.org/event/spooktacular-halloween/
END:VEVENT
BEGIN:VEVENT
DTSTART;TZID=UTC:20231031T130000
DTEND;TZID=UTC:20231031T140000
DTSTAMP:20260423T215927
CREATED:20231010T132546Z
LAST-MODIFIED:20231010T132546Z
UID:6670-1698757200-1698760800@varietyclc.org
SUMMARY:Gallow Halloween Parade
DESCRIPTION:Join us at the Gallow/Levittown school for our Halloween Parade! \nDate: October 31 \nTime: 1:00 p.m. \nWho: Student family members or caregiver \nWhere: Behind the school building in the field (72 Farmedge Rd) \nParking: It can be tricky\, arrive early to check the back parking lot (turn onto Trapper and then Rt onto Carpenter). If you chose to park in the front of the building\, check signage. Parking in the front loop is permitted until 2:00 p.m.\, however dismissal procedures start at 2:00 p.m. \nCLICK HERE FOR FULL DETAILS AND DISMISSAL PROCEDURES/FORM.
URL:https://varietyclc.org/event/gallow-halloween-parade/
END:VEVENT
BEGIN:VEVENT
DTSTART;TZID=UTC:20231031T130000
DTEND;TZID=UTC:20231031T140000
DTSTAMP:20260423T215927
CREATED:20231030T113649Z
LAST-MODIFIED:20231030T113649Z
UID:6721-1698757200-1698760800@varietyclc.org
SUMMARY:Syosset Halloween Parade
DESCRIPTION:Join us at the Syosset campus for our Halloween Parade! \nDate: October 31 \nTime: 1:00 p.m. \nWe hope to see you there!
URL:https://varietyclc.org/event/syosset-halloween-parade/
END:VEVENT
BEGIN:VEVENT
DTSTART;VALUE=DATE:20231101
DTEND;VALUE=DATE:20231102
DTSTAMP:20260423T215927
CREATED:20231108T185327Z
LAST-MODIFIED:20231108T185327Z
UID:6760-1698796800-1698883199@varietyclc.org
SUMMARY:Wacky Wednesday
DESCRIPTION:We’re feeling Wacky at Syosset and Gallow this month! Celebrate with a different themes each Wednesday. \nNovember 1 – Pajama/Loungewear Day
URL:https://varietyclc.org/event/wacky-wednesday/
END:VEVENT
BEGIN:VEVENT
DTSTART;TZID=UTC:20231101T100000
DTEND;TZID=UTC:20231101T110000
DTSTAMP:20260423T215927
CREATED:20231006T154855Z
LAST-MODIFIED:20231006T154855Z
UID:6658-1698832800-1698836400@varietyclc.org
SUMMARY:Virtual Grandparents' Group
DESCRIPTION:Join us for the opportunity to discuss concerns\, share ideas and gain information! \nThe group will meet for four sessions via Zoom. \nWednesdays\, October 25\, November 1\, November 8 and November 15.\n10:00 – 11:00 A.M. \nCLICK HERE FOR DETAILS. \nIf you have any questions\, please call Angela Hamel\, Social Worker\, VCLC Family Services\, at 516-921-7171\, Extension 2179.
URL:https://varietyclc.org/event/virtual-grandparents-group-2/
END:VEVENT
BEGIN:VEVENT
DTSTART;VALUE=DATE:20231107
DTEND;VALUE=DATE:20231108
DTSTAMP:20260423T215927
CREATED:20230627T230803Z
LAST-MODIFIED:20230627T230803Z
UID:5825-1699315200-1699401599@varietyclc.org
SUMMARY:School Closed-Staff Development
DESCRIPTION:
URL:https://varietyclc.org/event/school-closed-5/
END:VEVENT
BEGIN:VEVENT
DTSTART;VALUE=DATE:20231107
DTEND;VALUE=DATE:20231108
DTSTAMP:20260423T215927
CREATED:20230831T212045Z
LAST-MODIFIED:20230831T212045Z
UID:6492-1699315200-1699401599@varietyclc.org
SUMMARY:Staff Development
DESCRIPTION:
URL:https://varietyclc.org/event/staff-development/
END:VEVENT
BEGIN:VEVENT
DTSTART;VALUE=DATE:20231107
DTEND;VALUE=DATE:20231108
DTSTAMP:20260423T215927
CREATED:20230831T212046Z
LAST-MODIFIED:20230831T212046Z
UID:6493-1699315200-1699401599@varietyclc.org
SUMMARY:Staff Development
DESCRIPTION:
URL:https://varietyclc.org/event/staff-development-2/
END:VEVENT
BEGIN:VEVENT
DTSTART;VALUE=DATE:20231108
DTEND;VALUE=DATE:20231109
DTSTAMP:20260423T215927
CREATED:20231108T185409Z
LAST-MODIFIED:20231108T185409Z
UID:6762-1699401600-1699487999@varietyclc.org
SUMMARY:Wacky Wednesday
DESCRIPTION:We’re feeling Wacky at Syosset and Gallow this month! Celebrate with a different themes each Wednesday. \nNovember 8 – Veterans Day Spirit (red\, white and blue)
URL:https://varietyclc.org/event/wacky-wednesday-2/
END:VEVENT
BEGIN:VEVENT
DTSTART;TZID=UTC:20231108T100000
DTEND;TZID=UTC:20231108T110000
DTSTAMP:20260423T215927
CREATED:20231006T154959Z
LAST-MODIFIED:20231006T154959Z
UID:6660-1699437600-1699441200@varietyclc.org
SUMMARY:Virtual Grandparents' Group
DESCRIPTION:Join us for the opportunity to discuss concerns\, share ideas and gain information! \nThe group will meet for four sessions via Zoom. \nWednesdays\, October 25\, November 1\, November 8 and November 15.\n10:00 – 11:00 A.M. \nCLICK HERE FOR DETAILS. \nIf you have any questions\, please call Angela Hamel\, Social Worker\, VCLC Family Services\, at 516-921-7171\, Extension 2179.
URL:https://varietyclc.org/event/virtual-grandparents-group-3/
END:VEVENT
BEGIN:VEVENT
DTSTART;TZID=UTC:20231108T120000
DTEND;TZID=UTC:20231108T130000
DTSTAMP:20260423T215927
CREATED:20231016T214341Z
LAST-MODIFIED:20231016T214341Z
UID:6686-1699444800-1699448400@varietyclc.org
SUMMARY:Introduction to Augmentative and Alternative Communication (AAC)
DESCRIPTION:Join us virtually on Wednesday\, November 8\, from 12-1 p.m. for a presentation on Augmentative and Alternative Communication (AAC). \nThe presentation will focus on information for parents of children with expressive communication difficulties. \nCLICK HERE FOR FULL DETAILS AND TO REGISTER. CLICK HERE FOR FULL DETAILS AND TO REGISTER. 
URL:https://varietyclc.org/event/introduction-to-augmentative-and-alternative-communication-aac/
END:VEVENT
BEGIN:VEVENT
DTSTART;VALUE=DATE:20231110
DTEND;VALUE=DATE:20231111
DTSTAMP:20260423T215927
CREATED:20230627T230803Z
LAST-MODIFIED:20230627T230803Z
UID:5826-1699574400-1699660799@varietyclc.org
SUMMARY:School Closed-Veterans Day
DESCRIPTION:
URL:https://varietyclc.org/event/school-closed-6/
END:VEVENT
BEGIN:VEVENT
DTSTART;VALUE=DATE:20231115
DTEND;VALUE=DATE:20231116
DTSTAMP:20260423T215927
CREATED:20231108T185449Z
LAST-MODIFIED:20231108T185449Z
UID:6764-1700006400-1700092799@varietyclc.org
SUMMARY:Wacky Wednesday
DESCRIPTION:We’re feeling Wacky at Syosset and Gallow this month! Celebrate with a different themes each Wednesday. \nNovember 15 – Sports Day (represent your favorite team)
URL:https://varietyclc.org/event/wacky-wednesday-3/
END:VEVENT
BEGIN:VEVENT
DTSTART;TZID=UTC:20231115T100000
DTEND;TZID=UTC:20231115T110000
DTSTAMP:20260423T215927
CREATED:20231006T155031Z
LAST-MODIFIED:20231006T155031Z
UID:6662-1700042400-1700046000@varietyclc.org
SUMMARY:Virtual Grandparents' Group
DESCRIPTION:Join us for the opportunity to discuss concerns\, share ideas and gain information! \nThe group will meet for four sessions via Zoom. \nWednesdays\, October 25\, November 1\, November 8 and November 15.\n10:00 – 11:00 A.M. \nCLICK HERE FOR DETAILS. \nIf you have any questions\, please call Angela Hamel\, Social Worker\, VCLC Family Services\, at 516-921-7171\, Extension 2179.
URL:https://varietyclc.org/event/virtual-grandparents-group-4/
END:VEVENT
BEGIN:VEVENT
DTSTART;TZID=UTC:20231121T120000
DTEND;TZID=UTC:20231121T130000
DTSTAMP:20260423T215927
CREATED:20231120T163022Z
LAST-MODIFIED:20231120T163022Z
UID:6823-1700568000-1700571600@varietyclc.org
SUMMARY:Thanksgiving Feast - Karopcyzc
DESCRIPTION:The students will celebrate the season with a Thanksgiving Feast on Tuesday\, November 21.
URL:https://varietyclc.org/event/thanksgiving-feast-karopcycz/
END:VEVENT
BEGIN:VEVENT
DTSTART;VALUE=DATE:20231122
DTEND;VALUE=DATE:20231123
DTSTAMP:20260423T215927
CREATED:20231108T185545Z
LAST-MODIFIED:20231108T185545Z
UID:6766-1700611200-1700697599@varietyclc.org
SUMMARY:Wacky Wednesday
DESCRIPTION:We’re feeling Wacky at Syosset and Gallow this month! Celebrate with a different themes each Wednesday. \nNovember 22 – Dress your Best to Celebrate Thanksgiving (sneakers required)
URL:https://varietyclc.org/event/wacky-wednesday-4/
END:VEVENT
BEGIN:VEVENT
DTSTART;TZID=UTC:20231122T120000
DTEND;TZID=UTC:20231122T130000
DTSTAMP:20260423T215927
CREATED:20231108T212258Z
LAST-MODIFIED:20231108T212258Z
UID:6772-1700654400-1700658000@varietyclc.org
SUMMARY:Thanksgiving Feast
DESCRIPTION:On Wednesday\, November 22\, we will celebrate Thanksgiving with an in-school feast in Syosset and Gallow. \nCLICK HERE FOR DETAILS.
URL:https://varietyclc.org/event/thanksgiving-feast/
END:VEVENT
BEGIN:VEVENT
DTSTART;VALUE=DATE:20231123
DTEND;VALUE=DATE:20231125
DTSTAMP:20260423T215927
CREATED:20230627T230803Z
LAST-MODIFIED:20230627T230803Z
UID:5827-1700697600-1700870399@varietyclc.org
SUMMARY:No School- Thanksgiving Break
DESCRIPTION:
URL:https://varietyclc.org/event/no-school-8/
END:VEVENT
BEGIN:VEVENT
DTSTART;VALUE=DATE:20231129
DTEND;VALUE=DATE:20231130
DTSTAMP:20260423T215927
CREATED:20231108T185626Z
LAST-MODIFIED:20231108T185626Z
UID:6768-1701216000-1701302399@varietyclc.org
SUMMARY:Wacky Wednesday
DESCRIPTION:We’re feeling Wacky at Syosset and Gallow this month! Celebrate with a different themes each Wednesday. \nNovember 29 – School Spirit Day (wear blue and yellow to show your Variety spirit)
URL:https://varietyclc.org/event/wacky-wednesday-5/
END:VEVENT
BEGIN:VEVENT
DTSTART;TZID=UTC:20231129T120000
DTEND;TZID=UTC:20231129T130000
DTSTAMP:20260423T215927
CREATED:20231025T132145Z
LAST-MODIFIED:20231025T132145Z
UID:6714-1701259200-1701262800@varietyclc.org
SUMMARY:Supporting Fine & Gross Motor Development at Home
DESCRIPTION:Join us for a virtual workshop on Wednesday\, November 29 from 12:00-1:00 p.m. to learn more about fine and gross motor development and how to support their development at home. \nThis Zoom workshop will be presented by Lori Christianson\, PT\, and Melissa Capozzoli\, MS OTR/L. \nCLICK HERE FOR MORE INFORMATION.
URL:https://varietyclc.org/event/supporting-fine-gross-motor-development-at-home/
END:VEVENT
END:VCALENDAR