BEGIN:VCALENDAR
VERSION:2.0
PRODID:-//Variety Child Learning Center - ECPv6.15.20//NONSGML v1.0//EN
CALSCALE:GREGORIAN
METHOD:PUBLISH
X-WR-CALNAME:Variety Child Learning Center
X-ORIGINAL-URL:https://varietyclc.org
X-WR-CALDESC:Events for Variety Child Learning Center
REFRESH-INTERVAL;VALUE=DURATION:PT1H
X-Robots-Tag:noindex
X-PUBLISHED-TTL:PT1H
BEGIN:VTIMEZONE
TZID:UTC
BEGIN:STANDARD
TZOFFSETFROM:+0000
TZOFFSETTO:+0000
TZNAME:UTC
DTSTART:20220101T000000
END:STANDARD
END:VTIMEZONE
BEGIN:VTIMEZONE
TZID:America/New_York
BEGIN:DAYLIGHT
TZOFFSETFROM:-0500
TZOFFSETTO:-0400
TZNAME:EDT
DTSTART:20210314T070000
END:DAYLIGHT
BEGIN:STANDARD
TZOFFSETFROM:-0400
TZOFFSETTO:-0500
TZNAME:EST
DTSTART:20211107T060000
END:STANDARD
BEGIN:DAYLIGHT
TZOFFSETFROM:-0500
TZOFFSETTO:-0400
TZNAME:EDT
DTSTART:20220313T070000
END:DAYLIGHT
BEGIN:STANDARD
TZOFFSETFROM:-0400
TZOFFSETTO:-0500
TZNAME:EST
DTSTART:20221106T060000
END:STANDARD
BEGIN:DAYLIGHT
TZOFFSETFROM:-0500
TZOFFSETTO:-0400
TZNAME:EDT
DTSTART:20230312T070000
END:DAYLIGHT
BEGIN:STANDARD
TZOFFSETFROM:-0400
TZOFFSETTO:-0500
TZNAME:EST
DTSTART:20231105T060000
END:STANDARD
BEGIN:DAYLIGHT
TZOFFSETFROM:-0500
TZOFFSETTO:-0400
TZNAME:EDT
DTSTART:20240310T070000
END:DAYLIGHT
BEGIN:STANDARD
TZOFFSETFROM:-0400
TZOFFSETTO:-0500
TZNAME:EST
DTSTART:20241103T060000
END:STANDARD
END:VTIMEZONE
BEGIN:VEVENT
DTSTART;VALUE=DATE:20230731
DTEND;VALUE=DATE:20230801
DTSTAMP:20260423T154601
CREATED:20230711T194730Z
LAST-MODIFIED:20230711T194730Z
UID:5917-1690761600-1690847999@varietyclc.org
SUMMARY:Week of July 31: Sports theme
DESCRIPTION:
URL:https://varietyclc.org/event/week-of-july-31-sports-theme/
END:VEVENT
BEGIN:VEVENT
DTSTART;VALUE=DATE:20230728
DTEND;VALUE=DATE:20230729
DTSTAMP:20260423T154601
CREATED:20230711T194641Z
LAST-MODIFIED:20230711T194641Z
UID:5915-1690502400-1690588799@varietyclc.org
SUMMARY:Friday fun day: Crazy hat day
DESCRIPTION:
URL:https://varietyclc.org/event/friday-fun-day-crazy-hat-day/
END:VEVENT
BEGIN:VEVENT
DTSTART;VALUE=DATE:20230724
DTEND;VALUE=DATE:20230725
DTSTAMP:20260423T154601
CREATED:20230711T194545Z
LAST-MODIFIED:20230711T194545Z
UID:5913-1690156800-1690243199@varietyclc.org
SUMMARY:Week of July 24: Ocean animals
DESCRIPTION:
URL:https://varietyclc.org/event/week-of-july-24-ocean-animals/
END:VEVENT
BEGIN:VEVENT
DTSTART;VALUE=DATE:20230721
DTEND;VALUE=DATE:20230722
DTSTAMP:20260423T154601
CREATED:20230711T194457Z
LAST-MODIFIED:20230711T194457Z
UID:5911-1689897600-1689983999@varietyclc.org
SUMMARY:Friday fun day: Camouflage day
DESCRIPTION:
URL:https://varietyclc.org/event/friday-fun-day-camouflage-day/
END:VEVENT
BEGIN:VEVENT
DTSTART;VALUE=DATE:20230717
DTEND;VALUE=DATE:20230718
DTSTAMP:20260423T154601
CREATED:20230711T194428Z
LAST-MODIFIED:20230711T194428Z
UID:5909-1689552000-1689638399@varietyclc.org
SUMMARY:Week of July 17: Camping theme
DESCRIPTION:
URL:https://varietyclc.org/event/week-of-july-17-camping-theme/
END:VEVENT
BEGIN:VEVENT
DTSTART;VALUE=DATE:20230714
DTEND;VALUE=DATE:20230715
DTSTAMP:20260423T154601
CREATED:20230711T194211Z
LAST-MODIFIED:20230711T194211Z
UID:5904-1689292800-1689379199@varietyclc.org
SUMMARY:Friday fun day: Mismatch day
DESCRIPTION:
URL:https://varietyclc.org/event/friday-fun-day-mismatch-day/
END:VEVENT
BEGIN:VEVENT
DTSTART;VALUE=DATE:20230710
DTEND;VALUE=DATE:20230711
DTSTAMP:20260423T154601
CREATED:20230711T194117Z
LAST-MODIFIED:20230711T194117Z
UID:5902-1688947200-1689033599@varietyclc.org
SUMMARY:Week of July 10: Picnic theme
DESCRIPTION:
URL:https://varietyclc.org/event/picnic-theme/
END:VEVENT
BEGIN:VEVENT
DTSTART;VALUE=DATE:20230704
DTEND;VALUE=DATE:20230705
DTSTAMP:20260423T154601
CREATED:20230627T230800Z
LAST-MODIFIED:20230627T230800Z
UID:5806-1688428800-1688515199@varietyclc.org
SUMMARY:School Closed
DESCRIPTION:
URL:https://varietyclc.org/event/school-closed-2/
END:VEVENT
BEGIN:VEVENT
DTSTART;VALUE=DATE:20230703
DTEND;VALUE=DATE:20230704
DTSTAMP:20260423T154601
CREATED:20230627T230800Z
LAST-MODIFIED:20230627T230800Z
UID:5807-1688342400-1688428799@varietyclc.org
SUMMARY:First Day of Summer Program
DESCRIPTION:
URL:https://varietyclc.org/event/first-day-of-summer-program/
END:VEVENT
BEGIN:VEVENT
DTSTART;VALUE=DATE:20230626
DTEND;VALUE=DATE:20230701
DTSTAMP:20260423T154601
CREATED:20230627T230800Z
LAST-MODIFIED:20230627T230800Z
UID:5805-1687737600-1688169599@varietyclc.org
SUMMARY:School Closed
DESCRIPTION:
URL:https://varietyclc.org/event/school-closed/
END:VEVENT
BEGIN:VEVENT
DTSTART;VALUE=DATE:20230619
DTEND;VALUE=DATE:20230620
DTSTAMP:20260423T154601
CREATED:20221115T141348Z
LAST-MODIFIED:20221115T141348Z
UID:2380-1687132800-1687219199@varietyclc.org
SUMMARY:No School
DESCRIPTION:
URL:https://varietyclc.org/event/no-school-4/
END:VEVENT
BEGIN:VEVENT
DTSTART;TZID=UTC:20230611T133500
DTEND;TZID=UTC:20230611T160000
DTSTAMP:20260423T154601
CREATED:20230410T182942Z
LAST-MODIFIED:20230410T182942Z
UID:5035-1686490500-1686499200@varietyclc.org
SUMMARY:Long Island Ducks Game with VCLC
DESCRIPTION:Join us at a Long Island Ducks Game \nBring your family and friends\, kids can run the bases after the game! Great way to meet other VCLC Families! \nTickets are $13.00 \n(Children under 3 do not need to purchase a ticket) \nPayment is due Monday\, May 1\, 2023 \nCash or check made out to Variety Child Learning Center \nNO OUTSIDE FOOD OR BEVERAGES \nAny questions please reach out to Marisa Taddeo: 516-921-7171 EXT 2182 \nor Megan Smith: 516-921-7171 EXT 2140
URL:https://varietyclc.org/event/long-island-ducks-game-with-vclc/
ATTACH;FMTTYPE=:
END:VEVENT
BEGIN:VEVENT
DTSTART;VALUE=DATE:20230608
DTEND;VALUE=DATE:20230609
DTSTAMP:20260423T154601
CREATED:20230413T232515Z
LAST-MODIFIED:20230413T232515Z
UID:5072-1686182400-1686268799@varietyclc.org
SUMMARY:Viva Las Variety Casino Night
DESCRIPTION:
URL:https://varietyclc.org/event/viva-las-variety-casino-night/
END:VEVENT
BEGIN:VEVENT
DTSTART;VALUE=DATE:20230529
DTEND;VALUE=DATE:20230530
DTSTAMP:20260423T154601
CREATED:20221115T141348Z
LAST-MODIFIED:20221115T141348Z
UID:2379-1685318400-1685404799@varietyclc.org
SUMMARY:No School
DESCRIPTION:
URL:https://varietyclc.org/event/no-school-3/
END:VEVENT
BEGIN:VEVENT
DTSTART;VALUE=DATE:20230526
DTEND;VALUE=DATE:20230527
DTSTAMP:20260423T154601
CREATED:20230420T184303Z
LAST-MODIFIED:20230420T184303Z
UID:5136-1685059200-1685145599@varietyclc.org
SUMMARY:No school
DESCRIPTION:
URL:https://varietyclc.org/event/no-school-2/
END:VEVENT
BEGIN:VEVENT
DTSTART;VALUE=DATE:20230407
DTEND;VALUE=DATE:20230408
DTSTAMP:20260423T154601
CREATED:20220407T181101Z
LAST-MODIFIED:20220407T181101Z
UID:1416-1680825600-1680911999@varietyclc.org
SUMMARY:The Variety Children’s Learning Center Gala
DESCRIPTION:Date & Honorees to be announced!
URL:https://varietyclc.org/event/the-variety-childrens-learning-center-gala/
END:VEVENT
BEGIN:VEVENT
DTSTART;VALUE=DATE:20230406
DTEND;VALUE=DATE:20230415
DTSTAMP:20260423T154601
CREATED:20221115T141348Z
LAST-MODIFIED:20221115T141348Z
UID:2378-1680739200-1681516799@varietyclc.org
SUMMARY:No School-Spring recess
DESCRIPTION:
URL:https://varietyclc.org/event/no-school-spring-recess/
END:VEVENT
BEGIN:VEVENT
DTSTART;VALUE=DATE:20230220
DTEND;VALUE=DATE:20230225
DTSTAMP:20260423T154601
CREATED:20221115T141348Z
LAST-MODIFIED:20221115T141348Z
UID:2377-1676851200-1677283199@varietyclc.org
SUMMARY:No School- Winter recess
DESCRIPTION:
URL:https://varietyclc.org/event/no-school-winter-recess/
END:VEVENT
BEGIN:VEVENT
DTSTART;VALUE=DATE:20230217
DTEND;VALUE=DATE:20230218
DTSTAMP:20260423T154601
CREATED:20230201T183948Z
LAST-MODIFIED:20230201T183948Z
UID:4551-1676592000-1676678399@varietyclc.org
SUMMARY:Random Acts of Kindness Day-Display your class kindness posters
DESCRIPTION:
URL:https://varietyclc.org/event/random-acts-of-kindness-day-display-your-class-kindness-posters/
END:VEVENT
BEGIN:VEVENT
DTSTART;VALUE=DATE:20230217
DTEND;VALUE=DATE:20230218
DTSTAMP:20260423T154601
CREATED:20230125T145858Z
LAST-MODIFIED:20230125T145858Z
UID:4262-1676592000-1676678399@varietyclc.org
SUMMARY:Random Acts of Kindness Day-Display your kindness poster! Kindness is being friendly and polite to others. No act of kindness is too small
DESCRIPTION:
URL:https://varietyclc.org/event/random-acts-of-kindness-day-display-your-kindness-poster-kindness-is-being-friendly-and-polite-to-others-no-act-of-kindness-is-too-small/
END:VEVENT
BEGIN:VEVENT
DTSTART;VALUE=DATE:20230216
DTEND;VALUE=DATE:20230217
DTSTAMP:20260423T154601
CREATED:20230130T202446Z
LAST-MODIFIED:20230130T202446Z
UID:4467-1676505600-1676591999@varietyclc.org
SUMMARY:80s Day- Neon clothes and big hair will make for a brightly colored spirit day!
DESCRIPTION:
URL:https://varietyclc.org/event/80s-day-neon-clothes-and-big-hair-will-make-for-a-brightly-colored-spirit-day-3/
END:VEVENT
BEGIN:VEVENT
DTSTART;VALUE=DATE:20230215
DTEND;VALUE=DATE:20230216
DTSTAMP:20260423T154601
CREATED:20230130T202446Z
LAST-MODIFIED:20230130T202446Z
UID:4469-1676419200-1676505599@varietyclc.org
SUMMARY:Superhero Day! Dress up as your favorite superhero
DESCRIPTION:
URL:https://varietyclc.org/event/superhero-day-dress-up-as-your-favorite-superhero-3/
END:VEVENT
BEGIN:VEVENT
DTSTART;VALUE=DATE:20230214
DTEND;VALUE=DATE:20230215
DTSTAMP:20260423T154601
CREATED:20230130T202447Z
LAST-MODIFIED:20230130T202447Z
UID:4477-1676332800-1676419199@varietyclc.org
SUMMARY:Celebrate Love! Wear red\, pink and/or white
DESCRIPTION:
URL:https://varietyclc.org/event/celebrate-love-wear-red-pink-and-or-white-2/
END:VEVENT
BEGIN:VEVENT
DTSTART;VALUE=DATE:20230214
DTEND;VALUE=DATE:20230215
DTSTAMP:20260423T154601
CREATED:20230130T202446Z
LAST-MODIFIED:20230130T202446Z
UID:4471-1676332800-1676419199@varietyclc.org
SUMMARY:Dental Hygiene Day-Visit from Kidsmile
DESCRIPTION:
URL:https://varietyclc.org/event/dental-hygiene-day-visit-from-kidsmile-3/
END:VEVENT
BEGIN:VEVENT
DTSTART;VALUE=DATE:20230213
DTEND;VALUE=DATE:20230214
DTSTAMP:20260423T154601
CREATED:20230130T202447Z
LAST-MODIFIED:20230130T202447Z
UID:4478-1676246400-1676332799@varietyclc.org
SUMMARY:100th Day-Dress like your 100. Come to school dressed like grandma or grandpa
DESCRIPTION:
URL:https://varietyclc.org/event/100th-day-dress-like-your-100-come-to-school-dressed-like-grandma-or-grandpa-2/
END:VEVENT
BEGIN:VEVENT
DTSTART;VALUE=DATE:20230210
DTEND;VALUE=DATE:20230211
DTSTAMP:20260423T154601
CREATED:20230130T202445Z
LAST-MODIFIED:20230130T202445Z
UID:4465-1675987200-1676073599@varietyclc.org
SUMMARY:P.S. I love You Day-Wear purple in order to foster kindess
DESCRIPTION:
URL:https://varietyclc.org/event/p-s-i-love-you-day-wear-purple-in-order-to-foster-kindess/
END:VEVENT
BEGIN:VEVENT
DTSTART;VALUE=DATE:20230116
DTEND;VALUE=DATE:20230117
DTSTAMP:20260423T154601
CREATED:20221128T171958Z
LAST-MODIFIED:20221128T171958Z
UID:2728-1673827200-1673913599@varietyclc.org
SUMMARY:No School-Martin Luther King Jr. Day Observed
DESCRIPTION:
URL:https://varietyclc.org/event/no-school-martin-luther-king-jr-day-observed/
END:VEVENT
BEGIN:VEVENT
DTSTART;VALUE=DATE:20221228
DTEND;VALUE=DATE:20221229
DTSTAMP:20260423T154601
CREATED:20221130T152017Z
LAST-MODIFIED:20221130T152017Z
UID:2806-1672185600-1672271999@varietyclc.org
SUMMARY:Winter Break Playday-VCLC Families Only
DESCRIPTION:
URL:https://varietyclc.org/event/winter-break-playday-vclc-families-only/
END:VEVENT
BEGIN:VEVENT
DTSTART;VALUE=DATE:20221226
DTEND;VALUE=DATE:20230103
DTSTAMP:20260423T154601
CREATED:20221115T141348Z
LAST-MODIFIED:20221115T141348Z
UID:2375-1672012800-1672703999@varietyclc.org
SUMMARY:No School-Holiday Recess
DESCRIPTION:
URL:https://varietyclc.org/event/no-school-holiday-recess/
END:VEVENT
BEGIN:VEVENT
DTSTART;VALUE=DATE:20221223
DTEND;VALUE=DATE:20221224
DTSTAMP:20260423T154601
CREATED:20221202T170309Z
LAST-MODIFIED:20221202T170309Z
UID:2902-1671753600-1671839999@varietyclc.org
SUMMARY:Festive Friday-Wear holiday colors\, wear holiday socks
DESCRIPTION:
URL:https://varietyclc.org/event/festive-friday-wear-holiday-colors-wear-holiday-socks/
END:VEVENT
END:VCALENDAR