BEGIN:VCALENDAR
VERSION:2.0
PRODID:-//Variety Child Learning Center - ECPv6.15.20//NONSGML v1.0//EN
CALSCALE:GREGORIAN
METHOD:PUBLISH
X-WR-CALNAME:Variety Child Learning Center
X-ORIGINAL-URL:https://varietyclc.org
X-WR-CALDESC:Events for Variety Child Learning Center
REFRESH-INTERVAL;VALUE=DURATION:PT1H
X-Robots-Tag:noindex
X-PUBLISHED-TTL:PT1H
BEGIN:VTIMEZONE
TZID:UTC
BEGIN:STANDARD
TZOFFSETFROM:+0000
TZOFFSETTO:+0000
TZNAME:UTC
DTSTART:20250101T000000
END:STANDARD
END:VTIMEZONE
BEGIN:VEVENT
DTSTART;VALUE=DATE:20260420
DTEND;VALUE=DATE:20260425
DTSTAMP:20260423T095602
CREATED:20251015T153426Z
LAST-MODIFIED:20260421T201026Z
UID:8186-1776643200-1777075199@varietyclc.org
SUMMARY:Neurodiversity Week
DESCRIPTION:4/20 – Sensory Friendly Day: Wear Pajamas. \n4/21 – Rainbow Day: Wear Bright Colors/Rainbow. \n4/22 – Superhero Day: Wear Superhero Shirt/Outfit & Earth Day. \n4/23 – Kindness Day: Wear a Shirt with Kind Words. \n4/24 – School Spirit Day: Wear Yellow and Blue for VCLC.
URL:https://varietyclc.org/event/vip-week/
END:VEVENT
BEGIN:VEVENT
DTSTART;VALUE=DATE:20260427
DTEND;VALUE=DATE:20260429
DTSTAMP:20260423T095602
CREATED:20251015T153542Z
LAST-MODIFIED:20251015T153542Z
UID:8190-1777248000-1777420799@varietyclc.org
SUMMARY:Bellerose Spring Fling
DESCRIPTION:
URL:https://varietyclc.org/event/bellerose-spring-fling/
END:VEVENT
BEGIN:VEVENT
DTSTART;VALUE=DATE:20260429
DTEND;VALUE=DATE:20260501
DTSTAMP:20260423T095602
CREATED:20251015T153928Z
LAST-MODIFIED:20251015T153928Z
UID:8198-1777420800-1777593599@varietyclc.org
SUMMARY:Syosset Spring Fling
DESCRIPTION:
URL:https://varietyclc.org/event/syosset-spring-fling/
END:VEVENT
BEGIN:VEVENT
DTSTART;TZID=UTC:20260507T110000
DTEND;TZID=UTC:20260507T140000
DTSTAMP:20260423T095602
CREATED:20260112T163629Z
LAST-MODIFIED:20260112T163738Z
UID:8294-1778151600-1778162400@varietyclc.org
SUMMARY:Touching Hearts\, Changing Lives Together Luncheon
DESCRIPTION:Join us for our annual Touching Hearts\, Changing Lives Together Luncheon on Thursday\, May 7\, 2026 at the Crest Hollow Country Club. For tickets and sponsorship opportunities\, contact development@vclc.org.
URL:https://varietyclc.org/event/touching-hearts-changing-lives-together-luncheon/
LOCATION:Crest Hollow Country Club
END:VEVENT
BEGIN:VEVENT
DTSTART;VALUE=DATE:20260525
DTEND;VALUE=DATE:20260526
DTSTAMP:20260423T095602
CREATED:20250721T163217Z
LAST-MODIFIED:20250721T163217Z
UID:8045-1779667200-1779753599@varietyclc.org
SUMMARY:Memorial Day - No School
DESCRIPTION:
URL:https://varietyclc.org/event/memorial-day-no-school-3/
END:VEVENT
BEGIN:VEVENT
DTSTART;TZID=UTC:20260615T100000
DTEND;TZID=UTC:20260615T120000
DTSTAMP:20260423T095602
CREATED:20251015T153724Z
LAST-MODIFIED:20251015T153724Z
UID:8192-1781517600-1781524800@varietyclc.org
SUMMARY:Bellerose Family Fun Festival
DESCRIPTION:
URL:https://varietyclc.org/event/bellerose-family-fun-festival/
END:VEVENT
BEGIN:VEVENT
DTSTART;VALUE=DATE:20260619
DTEND;VALUE=DATE:20260620
DTSTAMP:20260423T095602
CREATED:20250721T163242Z
LAST-MODIFIED:20250721T163242Z
UID:8047-1781827200-1781913599@varietyclc.org
SUMMARY:Juneteenth - No School
DESCRIPTION:
URL:https://varietyclc.org/event/juneteenth-no-school-3/
END:VEVENT
BEGIN:VEVENT
DTSTART;VALUE=DATE:20260622
DTEND;VALUE=DATE:20260626
DTSTAMP:20260423T095602
CREATED:20251015T154014Z
LAST-MODIFIED:20251015T154014Z
UID:8200-1782086400-1782431999@varietyclc.org
SUMMARY:Syosset Family Fun Festival
DESCRIPTION:
URL:https://varietyclc.org/event/syosset-family-fun-festival/
END:VEVENT
BEGIN:VEVENT
DTSTART;TZID=UTC:20260622T100000
DTEND;TZID=UTC:20260622T120000
DTSTAMP:20260423T095602
CREATED:20251015T153806Z
LAST-MODIFIED:20251015T153806Z
UID:8194-1782122400-1782129600@varietyclc.org
SUMMARY:Bellerose UPK Celebration Day
DESCRIPTION:
URL:https://varietyclc.org/event/bellerose-upk-celebration-day/
END:VEVENT
BEGIN:VEVENT
DTSTART;VALUE=DATE:20260626
DTEND;VALUE=DATE:20260627
DTSTAMP:20260423T095602
CREATED:20250721T163302Z
LAST-MODIFIED:20250721T163302Z
UID:8049-1782432000-1782518399@varietyclc.org
SUMMARY:Last Day of School
DESCRIPTION:
URL:https://varietyclc.org/event/last-day-of-school-3/
END:VEVENT
BEGIN:VEVENT
DTSTART;TZID=UTC:20260626T100000
DTEND;TZID=UTC:20260626T120000
DTSTAMP:20260423T095602
CREATED:20251015T154820Z
LAST-MODIFIED:20251015T154820Z
UID:8219-1782468000-1782475200@varietyclc.org
SUMMARY:Gallow Preschool Celebration Day Show
DESCRIPTION:
URL:https://varietyclc.org/event/gallow-preschool-celebration-day-show/
END:VEVENT
BEGIN:VEVENT
DTSTART;TZID=UTC:20260626T130000
DTEND;TZID=UTC:20260626T143000
DTSTAMP:20260423T095602
CREATED:20251015T154914Z
LAST-MODIFIED:20251015T154914Z
UID:8221-1782478800-1782484200@varietyclc.org
SUMMARY:Gallow School Age Celebration Day Parties
DESCRIPTION:
URL:https://varietyclc.org/event/gallow-school-age-celebration-day-parties/
END:VEVENT
BEGIN:VEVENT
DTSTART;VALUE=DATE:20260728
DTEND;VALUE=DATE:20260730
DTSTAMP:20260423T095602
CREATED:20251106T180656Z
LAST-MODIFIED:20251106T180656Z
UID:8257-1785196800-1785369599@varietyclc.org
SUMMARY:Summer Field Day - Syosset
DESCRIPTION:
URL:https://varietyclc.org/event/summer-field-day-syosset/
END:VEVENT
END:VCALENDAR