BEGIN:VCALENDAR
VERSION:2.0
PRODID:-//Variety Child Learning Center - ECPv6.15.20//NONSGML v1.0//EN
CALSCALE:GREGORIAN
METHOD:PUBLISH
X-ORIGINAL-URL:https://varietyclc.org
X-WR-CALDESC:Events for Variety Child Learning Center
REFRESH-INTERVAL;VALUE=DURATION:PT1H
X-Robots-Tag:noindex
X-PUBLISHED-TTL:PT1H
BEGIN:VTIMEZONE
TZID:UTC
BEGIN:STANDARD
TZOFFSETFROM:+0000
TZOFFSETTO:+0000
TZNAME:UTC
DTSTART:20240101T000000
END:STANDARD
END:VTIMEZONE
BEGIN:VEVENT
DTSTART;VALUE=DATE:20251222
DTEND;VALUE=DATE:20251223
DTSTAMP:20260424T155147
CREATED:20251202T194648Z
LAST-MODIFIED:20251202T194648Z
UID:8276-1766361600-1766447999@varietyclc.org
SUMMARY:Bellerose Grinch Day
DESCRIPTION:
URL:https://varietyclc.org/event/bellerose-grinch-day/
END:VEVENT
END:VCALENDAR