BEGIN:VCALENDAR
VERSION:2.0
PRODID:-//Variety Child Learning Center - ECPv6.15.20//NONSGML v1.0//EN
CALSCALE:GREGORIAN
METHOD:PUBLISH
X-ORIGINAL-URL:https://varietyclc.org
X-WR-CALDESC:Events for Variety Child Learning Center
REFRESH-INTERVAL;VALUE=DURATION:PT1H
X-Robots-Tag:noindex
X-PUBLISHED-TTL:PT1H
BEGIN:VTIMEZONE
TZID:UTC
BEGIN:STANDARD
TZOFFSETFROM:+0000
TZOFFSETTO:+0000
TZNAME:UTC
DTSTART:20240101T000000
END:STANDARD
END:VTIMEZONE
BEGIN:VEVENT
DTSTART;VALUE=DATE:20251031
DTEND;VALUE=DATE:20251101
DTSTAMP:20260424T130035
CREATED:20251015T152516Z
LAST-MODIFIED:20251016T155833Z
UID:8180-1761868800-1761955199@varietyclc.org
SUMMARY:Halloween Parades
DESCRIPTION:Bellerose: 10:00 am \nGallow: 1:00 pm \nSyosset: 10:00 am for the following classes – \n\nJennifer\nJordyn\nMaryAnn\nShanna\nLuAnn R\nAlly\nDan\nMolly\nBrea\nAmy B\nLogan\n\nSyosset: 1:00 pm for the following classes – \n\nLaura O\nNicole\nAnnMarie\nClara\nStacey\nKim B\nKim D\nDebbie\nLaura D\nMelissa
URL:https://varietyclc.org/event/halloween-parades/
END:VEVENT
END:VCALENDAR