BEGIN:VCALENDAR
VERSION:2.0
PRODID:-//Variety Child Learning Center - ECPv6.15.20//NONSGML v1.0//EN
CALSCALE:GREGORIAN
METHOD:PUBLISH
X-ORIGINAL-URL:https://varietyclc.org
X-WR-CALDESC:Events for Variety Child Learning Center
REFRESH-INTERVAL;VALUE=DURATION:PT1H
X-Robots-Tag:noindex
X-PUBLISHED-TTL:PT1H
BEGIN:VTIMEZONE
TZID:UTC
BEGIN:STANDARD
TZOFFSETFROM:+0000
TZOFFSETTO:+0000
TZNAME:UTC
DTSTART:20240101T000000
END:STANDARD
END:VTIMEZONE
BEGIN:VEVENT
DTSTART;VALUE=DATE:20251020
DTEND;VALUE=DATE:20251021
DTSTAMP:20260424T130035
CREATED:20251015T152013Z
LAST-MODIFIED:20251015T152013Z
UID:8170-1760918400-1761004799@varietyclc.org
SUMMARY:Wear Red for Fire Prevention Month
DESCRIPTION:
URL:https://varietyclc.org/event/wear-red-for-fire-prevention-month/
END:VEVENT
END:VCALENDAR