BEGIN:VCALENDAR
VERSION:2.0
PRODID:-//Variety Child Learning Center - ECPv6.15.20//NONSGML v1.0//EN
CALSCALE:GREGORIAN
METHOD:PUBLISH
X-ORIGINAL-URL:https://varietyclc.org
X-WR-CALDESC:Events for Variety Child Learning Center
REFRESH-INTERVAL;VALUE=DURATION:PT1H
X-Robots-Tag:noindex
X-PUBLISHED-TTL:PT1H
BEGIN:VTIMEZONE
TZID:UTC
BEGIN:STANDARD
TZOFFSETFROM:+0000
TZOFFSETTO:+0000
TZNAME:UTC
DTSTART:20240101T000000
END:STANDARD
END:VTIMEZONE
BEGIN:VEVENT
DTSTART;TZID=UTC:20250929T180000
DTEND;TZID=UTC:20250929T200000
DTSTAMP:20260424T113254
CREATED:20250917T144019Z
LAST-MODIFIED:20250917T144019Z
UID:8096-1759168800-1759176000@varietyclc.org
SUMMARY:Back-to-School Nights - Syosset & Gallow
DESCRIPTION:6:00-6:45 Meet the therapists \n6:45-7:45 Meet the teachers
URL:https://varietyclc.org/event/back-to-school-nights-syosset-gallow/
END:VEVENT
END:VCALENDAR