BEGIN:VCALENDAR
VERSION:2.0
PRODID:-//Variety Child Learning Center - ECPv6.15.20//NONSGML v1.0//EN
CALSCALE:GREGORIAN
METHOD:PUBLISH
X-ORIGINAL-URL:https://varietyclc.org
X-WR-CALDESC:Events for Variety Child Learning Center
REFRESH-INTERVAL;VALUE=DURATION:PT1H
X-Robots-Tag:noindex
X-PUBLISHED-TTL:PT1H
BEGIN:VTIMEZONE
TZID:UTC
BEGIN:STANDARD
TZOFFSETFROM:+0000
TZOFFSETTO:+0000
TZNAME:UTC
DTSTART:20240101T000000
END:STANDARD
END:VTIMEZONE
BEGIN:VEVENT
DTSTART;TZID=UTC:20250916T180000
DTEND;TZID=UTC:20250916T191500
DTSTAMP:20260424T113300
CREATED:20250917T143705Z
LAST-MODIFIED:20250917T143705Z
UID:8092-1758045600-1758050100@varietyclc.org
SUMMARY:Back-to-School Night - Karopczyc
DESCRIPTION:6:00-6:30 Meet the therapists\n6:30-7:15 Meet the teachers
URL:https://varietyclc.org/event/back-to-school-night-karopczyc/
END:VEVENT
END:VCALENDAR