BEGIN:VCALENDAR
VERSION:2.0
PRODID:-//Variety Child Learning Center - ECPv6.15.20//NONSGML v1.0//EN
CALSCALE:GREGORIAN
METHOD:PUBLISH
X-WR-CALNAME:Variety Child Learning Center
X-ORIGINAL-URL:https://varietyclc.org
X-WR-CALDESC:Events for Variety Child Learning Center
REFRESH-INTERVAL;VALUE=DURATION:PT1H
X-Robots-Tag:noindex
X-PUBLISHED-TTL:PT1H
BEGIN:VTIMEZONE
TZID:UTC
BEGIN:STANDARD
TZOFFSETFROM:+0000
TZOFFSETTO:+0000
TZNAME:UTC
DTSTART:20240101T000000
END:STANDARD
END:VTIMEZONE
BEGIN:VEVENT
DTSTART;VALUE=DATE:20250811
DTEND;VALUE=DATE:20250816
DTSTAMP:20260424T101053
CREATED:20250627T111358Z
LAST-MODIFIED:20250627T111358Z
UID:7984-1754870400-1755302399@varietyclc.org
SUMMARY:Carnival Week
DESCRIPTION:Tie-dye day on Friday (optional).
URL:https://varietyclc.org/event/carnival-week/
END:VEVENT
BEGIN:VEVENT
DTSTART;VALUE=DATE:20250815
DTEND;VALUE=DATE:20250816
DTSTAMP:20260424T101053
CREATED:20250718T163127Z
LAST-MODIFIED:20250718T163127Z
UID:8012-1755216000-1755302399@varietyclc.org
SUMMARY:Last Day of Summer Program
DESCRIPTION:
URL:https://varietyclc.org/event/last-day-of-summer-program-3/
END:VEVENT
END:VCALENDAR