BEGIN:VCALENDAR
VERSION:2.0
PRODID:-//Variety Child Learning Center - ECPv6.15.20//NONSGML v1.0//EN
CALSCALE:GREGORIAN
METHOD:PUBLISH
X-WR-CALNAME:Variety Child Learning Center
X-ORIGINAL-URL:https://varietyclc.org
X-WR-CALDESC:Events for Variety Child Learning Center
REFRESH-INTERVAL;VALUE=DURATION:PT1H
X-Robots-Tag:noindex
X-PUBLISHED-TTL:PT1H
BEGIN:VTIMEZONE
TZID:UTC
BEGIN:STANDARD
TZOFFSETFROM:+0000
TZOFFSETTO:+0000
TZNAME:UTC
DTSTART:20240101T000000
END:STANDARD
END:VTIMEZONE
BEGIN:VEVENT
DTSTART;VALUE=DATE:20250623
DTEND;VALUE=DATE:20250627
DTSTAMP:20260424T071749
CREATED:20250530T181014Z
LAST-MODIFIED:20250530T181014Z
UID:7939-1750636800-1750982399@varietyclc.org
SUMMARY:Family Fun Days
DESCRIPTION:Celebrate the end of an amazing school year with Family Fun Day for each class – schedule as follows: \n\n\nMonday\, June 23\n9:30-9:45 Classrooms\, 9:45-10:15 Gym – Jessica\, Lisa\, LuAnn R.\n10:45-11:00 Classrooms\, 11:00-11:30 Gym – Angelique\, Kim D. \n\n\nTuesday\, June 24\n9:30-9:45 Classrooms\, 9:45-10:15 Gym – Nicole\, Kim B.\, Lindsay\n10:45-11:00 Classrooms\, 11:00-11:30 Gym – Clara\, Janine\, Amy B. \n\n\nWednesday\, June 25\n9:30-9:45 Classrooms\, 9:45-10:15 Gym – Shanna\, MaryAnn\, Bonnie\n10:45-11:00 Classrooms\, 11:00-11:30 Gym – Laura D.\, Jordyn\, Melissa \n\n\nThursday\, June 26\n9:30-9:45 Classrooms\, 9:45-10:15 Gym – Ally\, Laura O.\, AnnMarie\n10:45-11:00 Classrooms\, 11:00-11:30 Gym – Amanda\, Debbie \n\n\n 
URL:https://varietyclc.org/event/family-fun-days/
END:VEVENT
BEGIN:VEVENT
DTSTART;VALUE=DATE:20250625
DTEND;VALUE=DATE:20250627
DTSTAMP:20260424T071749
CREATED:20250610T172129Z
LAST-MODIFIED:20250610T172129Z
UID:7947-1750809600-1750982399@varietyclc.org
SUMMARY:Gallow Graduation Ceremonies
DESCRIPTION:We are looking forward to celebrating with our students and their families! \nWednesday\, June 25\, 10 a.m. Preschool Graduation \nThursday\, June 26\, 10 a.m. School Age Graduation
URL:https://varietyclc.org/event/gallow-graduation-ceremonies/
END:VEVENT
BEGIN:VEVENT
DTSTART;VALUE=DATE:20250626
DTEND;VALUE=DATE:20250627
DTSTAMP:20260424T071749
CREATED:20240924T120305Z
LAST-MODIFIED:20240924T120305Z
UID:7562-1750896000-1750982399@varietyclc.org
SUMMARY:Last Day of School
DESCRIPTION:
URL:https://varietyclc.org/event/last-day-of-school-2/
END:VEVENT
END:VCALENDAR