BEGIN:VCALENDAR
VERSION:2.0
PRODID:-//Variety Child Learning Center - ECPv6.15.20//NONSGML v1.0//EN
CALSCALE:GREGORIAN
METHOD:PUBLISH
X-WR-CALNAME:Variety Child Learning Center
X-ORIGINAL-URL:https://varietyclc.org
X-WR-CALDESC:Events for Variety Child Learning Center
REFRESH-INTERVAL;VALUE=DURATION:PT1H
X-Robots-Tag:noindex
X-PUBLISHED-TTL:PT1H
BEGIN:VTIMEZONE
TZID:UTC
BEGIN:STANDARD
TZOFFSETFROM:+0000
TZOFFSETTO:+0000
TZNAME:UTC
DTSTART:20230101T000000
END:STANDARD
END:VTIMEZONE
BEGIN:VEVENT
DTSTART;VALUE=DATE:20241003
DTEND;VALUE=DATE:20241005
DTSTAMP:20260423T190004
CREATED:20240924T115125Z
LAST-MODIFIED:20240924T115125Z
UID:7534-1727913600-1728086399@varietyclc.org
SUMMARY:Rosh Hashanah - No School
DESCRIPTION:
URL:https://varietyclc.org/event/rosh-hashanah-no-school/
END:VEVENT
END:VCALENDAR