BEGIN:VCALENDAR
VERSION:2.0
PRODID:-//Variety Child Learning Center - ECPv6.15.20//NONSGML v1.0//EN
CALSCALE:GREGORIAN
METHOD:PUBLISH
X-ORIGINAL-URL:https://varietyclc.org
X-WR-CALDESC:Events for Variety Child Learning Center
REFRESH-INTERVAL;VALUE=DURATION:PT1H
X-Robots-Tag:noindex
X-PUBLISHED-TTL:PT1H
BEGIN:VTIMEZONE
TZID:UTC
BEGIN:STANDARD
TZOFFSETFROM:+0000
TZOFFSETTO:+0000
TZNAME:UTC
DTSTART:20230101T000000
END:STANDARD
END:VTIMEZONE
BEGIN:VEVENT
DTSTART;VALUE=DATE:20240415
DTEND;VALUE=DATE:20240420
DTSTAMP:20260423T145735
CREATED:20240410T164047Z
LAST-MODIFIED:20240410T164047Z
UID:7280-1713139200-1713571199@varietyclc.org
SUMMARY:Earth Week Spirit Week
DESCRIPTION:We’ll be preparing for Earth Day with a special Earth Week Spirit Week at all Variety Child Learning Center campuses.
URL:https://varietyclc.org/event/earth-week-spirit-week/
END:VEVENT
END:VCALENDAR