BEGIN:VCALENDAR
VERSION:2.0
PRODID:-//Variety Child Learning Center - ECPv6.15.20//NONSGML v1.0//EN
CALSCALE:GREGORIAN
METHOD:PUBLISH
X-ORIGINAL-URL:https://varietyclc.org
X-WR-CALDESC:Events for Variety Child Learning Center
REFRESH-INTERVAL;VALUE=DURATION:PT1H
X-Robots-Tag:noindex
X-PUBLISHED-TTL:PT1H
BEGIN:VTIMEZONE
TZID:UTC
BEGIN:STANDARD
TZOFFSETFROM:+0000
TZOFFSETTO:+0000
TZNAME:UTC
DTSTART:20230101T000000
END:STANDARD
END:VTIMEZONE
BEGIN:VEVENT
DTSTART;TZID=UTC:20240410T120000
DTEND;TZID=UTC:20240410T130000
DTSTAMP:20260423T145708
CREATED:20240318T154314Z
LAST-MODIFIED:20240318T154314Z
UID:7239-1712750400-1712754000@varietyclc.org
SUMMARY:OPWDD Eligibility Workshop
DESCRIPTION:This workshop will provide an overview of OPWDD criteria for eligibility\, referral process\, and available programming for children with special needs. \nJoin us virtually April 10\, 2024\, 12pm-1pm \nCLICK HERE FOR DETAILS AND TO REGISTER.
URL:https://varietyclc.org/event/opwdd-eligibility-workshop/
END:VEVENT
END:VCALENDAR