BEGIN:VCALENDAR
VERSION:2.0
PRODID:-//Variety Child Learning Center - ECPv6.15.20//NONSGML v1.0//EN
CALSCALE:GREGORIAN
METHOD:PUBLISH
X-WR-CALNAME:Variety Child Learning Center
X-ORIGINAL-URL:https://varietyclc.org
X-WR-CALDESC:Events for Variety Child Learning Center
REFRESH-INTERVAL;VALUE=DURATION:PT1H
X-Robots-Tag:noindex
X-PUBLISHED-TTL:PT1H
BEGIN:VTIMEZONE
TZID:UTC
BEGIN:STANDARD
TZOFFSETFROM:+0000
TZOFFSETTO:+0000
TZNAME:UTC
DTSTART:20230101T000000
END:STANDARD
END:VTIMEZONE
BEGIN:VEVENT
DTSTART;VALUE=DATE:20240317
DTEND;VALUE=DATE:20240325
DTSTAMP:20260423T162037
CREATED:20240319T112858Z
LAST-MODIFIED:20240319T112858Z
UID:7248-1710633600-1711324799@varietyclc.org
SUMMARY:Creative Arts Therapy Week
DESCRIPTION:March 17-24\, is Creative Arts Therapy Week – a week where we promote awareness of the Creative Arts Therapies! \nThe Creative Arts Department invites you to join us in celebrating with fun activities throughout the week\, with QR puzzles\, a Doodle Gallery\, Jam Sessions\, Body/Mind Relaxation and so much more. \n\nCLICK HERE FOR DETAILS.
URL:https://varietyclc.org/event/creative-arts-therapy-week/
END:VEVENT
BEGIN:VEVENT
DTSTART;VALUE=DATE:20240321
DTEND;VALUE=DATE:20240322
DTSTAMP:20260423T162037
CREATED:20240318T154717Z
LAST-MODIFIED:20240318T154717Z
UID:7244-1710979200-1711065599@varietyclc.org
SUMMARY:Picture Day at Gallow
DESCRIPTION:School Picture Day at Gallow will be held on March 21. Your child’s teacher will provide scheduling details.
URL:https://varietyclc.org/event/picture-day-at-gallow/
END:VEVENT
END:VCALENDAR