BEGIN:VCALENDAR
VERSION:2.0
PRODID:-//Variety Child Learning Center - ECPv6.15.20//NONSGML v1.0//EN
CALSCALE:GREGORIAN
METHOD:PUBLISH
X-WR-CALNAME:Variety Child Learning Center
X-ORIGINAL-URL:https://varietyclc.org
X-WR-CALDESC:Events for Variety Child Learning Center
REFRESH-INTERVAL;VALUE=DURATION:PT1H
X-Robots-Tag:noindex
X-PUBLISHED-TTL:PT1H
BEGIN:VTIMEZONE
TZID:UTC
BEGIN:STANDARD
TZOFFSETFROM:+0000
TZOFFSETTO:+0000
TZNAME:UTC
DTSTART:20230101T000000
END:STANDARD
END:VTIMEZONE
BEGIN:VEVENT
DTSTART;TZID=UTC:20240228T120000
DTEND;TZID=UTC:20240228T130000
DTSTAMP:20260423T162037
CREATED:20240207T200831Z
LAST-MODIFIED:20240207T200831Z
UID:7046-1709121600-1709125200@varietyclc.org
SUMMARY:Co-Regulation Virtual Workshop
DESCRIPTION:It Takes Two….To Regulate! \nA virtual workshop on co-regulation presented by Heather Crean\, LMSW\, MS. \nFebruary 28. 2024\n12pm-1pm \nThis virtual\, informational workshop is meant to support the foundation of co-regulation in the caregiver-child relationship in a non-judgmental environment. Tantrums are hard\, for you and your child! Let’s work through it together. \nCLICK HERE FOR DETAILS.
URL:https://varietyclc.org/event/co-regulation-virtual-workshop/
END:VEVENT
END:VCALENDAR