BEGIN:VCALENDAR
VERSION:2.0
PRODID:-//Variety Child Learning Center - ECPv6.15.20//NONSGML v1.0//EN
CALSCALE:GREGORIAN
METHOD:PUBLISH
X-WR-CALNAME:Variety Child Learning Center
X-ORIGINAL-URL:https://varietyclc.org
X-WR-CALDESC:Events for Variety Child Learning Center
REFRESH-INTERVAL;VALUE=DURATION:PT1H
X-Robots-Tag:noindex
X-PUBLISHED-TTL:PT1H
BEGIN:VTIMEZONE
TZID:UTC
BEGIN:STANDARD
TZOFFSETFROM:+0000
TZOFFSETTO:+0000
TZNAME:UTC
DTSTART:20230101T000000
END:STANDARD
END:VTIMEZONE
BEGIN:VEVENT
DTSTART;VALUE=DATE:20240208
DTEND;VALUE=DATE:20240217
DTSTAMP:20260423T174637
CREATED:20240131T174511Z
LAST-MODIFIED:20240131T174511Z
UID:7024-1707350400-1708127999@varietyclc.org
SUMMARY:Karopczyc Spirit Days
DESCRIPTION:Get into the February Spirit at Karopczyc with these special theme days! \nThursday\, 2/8 – 100th Day of School\nFriday\, 2/9 – P.S. I Love You Day (wear purple)\nMonday\, 2/12 – Pajama Day\nTuesday\, 2/13 – Jersey Day – Wear your favorite team’s jersey or shirt\nWednesday\, 2/14 – Valentine’s Day (wear red or pink)\nThursday\, 2/15 – Throwback Thursday – Wear your best 90’s style\nFriday\, 2/16 – Random Acts of Kindness Day – Do something nice for someone \nCLICK HERE FOR DETAILS.
URL:https://varietyclc.org/event/karopczyc-spirit-days/
END:VEVENT
BEGIN:VEVENT
DTSTART;VALUE=DATE:20240208
DTEND;VALUE=DATE:20240217
DTSTAMP:20260423T174637
CREATED:20240131T144037Z
LAST-MODIFIED:20240131T144037Z
UID:7014-1707350400-1708127999@varietyclc.org
SUMMARY:Syosset Spirit Days
DESCRIPTION:Get into the February Spirit at Syosset with these special theme days! \nThursday\, 2/8 – 100th Day of School\nFriday\, 2/9 – P.S. I Love You Day (wear purple)\nMonday\, 2/12 – Jersey Day – Wear your favorite team’s jersey or shirt\nTuesday\, 2/13 – Pajama Day\nWednesday\, 2/14 – Valentine’s Day (wear red or pink)\nThursday\, 2/15 – Throwback Thursday – Wear your best 90’s style\nFriday\, 2/16 – Random Acts of Kindness Day – Do something nice for someone \nCLICK HERE FOR DETAILS. \n 
URL:https://varietyclc.org/event/syosset-spirit-days/
END:VEVENT
BEGIN:VEVENT
DTSTART;VALUE=DATE:20240209
DTEND;VALUE=DATE:20240217
DTSTAMP:20260423T174637
CREATED:20240131T163037Z
LAST-MODIFIED:20240131T163037Z
UID:7021-1707436800-1708127999@varietyclc.org
SUMMARY:Gallow Spirit Days
DESCRIPTION:Get into the February Spirit at Gallow with these special theme days! \nFriday\, 2/9 – P.S. I Love You Day (wear purple)\nMonday\, 2/12 – 100th Day of School\nTuesday\, 2/13 – Jersey Day – Wear your favorite team’s jersey or shirt\nWednesday\, 2/14 – Valentine’s Day (wear red or pink)\nThursday\, 2/15 – Throwback Thursday – Wear your best 90’s style\nFriday\, 2/16 – Random Acts of Kindness Day – Do something nice for someone \nCLICK HERE FOR DETAILS.
URL:https://varietyclc.org/event/gallow-spirit-days/
END:VEVENT
END:VCALENDAR