BEGIN:VCALENDAR
VERSION:2.0
PRODID:-//Variety Child Learning Center - ECPv6.15.20//NONSGML v1.0//EN
CALSCALE:GREGORIAN
METHOD:PUBLISH
X-WR-CALNAME:Variety Child Learning Center
X-ORIGINAL-URL:https://varietyclc.org
X-WR-CALDESC:Events for Variety Child Learning Center
REFRESH-INTERVAL;VALUE=DURATION:PT1H
X-Robots-Tag:noindex
X-PUBLISHED-TTL:PT1H
BEGIN:VTIMEZONE
TZID:UTC
BEGIN:STANDARD
TZOFFSETFROM:+0000
TZOFFSETTO:+0000
TZNAME:UTC
DTSTART:20230101T000000
END:STANDARD
END:VTIMEZONE
BEGIN:VEVENT
DTSTART;TZID=UTC:20240206T120000
DTEND;TZID=UTC:20240206T130000
DTSTAMP:20260423T174601
CREATED:20240109T193249Z
LAST-MODIFIED:20240109T193249Z
UID:6971-1707220800-1707224400@varietyclc.org
SUMMARY:CPSE to CSE Transition Workshop
DESCRIPTION:Gain the Knowledge Needed to Ease the Transition from Preschool to Kindergarten \nPresented By: Maria Freeman & Stacey Trotti\, VCLC Social Workers Via Zoom \nTuesday\, 2/6/24 @ 12:00 pm \n\n\n\n\nTopics will include: \n\nYour Role as a Committee Member\nCPSE to CSE Transition Process Eligibility\nLeast restrictive environment\nProgram services and options\nCommunity resources\n\n\n\n\n\n\n\nClick here for details and to RSVP.
URL:https://varietyclc.org/event/cpse-to-cse-transition-workshop/
END:VEVENT
END:VCALENDAR