BEGIN:VCALENDAR
VERSION:2.0
PRODID:-//Variety Child Learning Center - ECPv6.15.20//NONSGML v1.0//EN
CALSCALE:GREGORIAN
METHOD:PUBLISH
X-ORIGINAL-URL:https://varietyclc.org
X-WR-CALDESC:Events for Variety Child Learning Center
REFRESH-INTERVAL;VALUE=DURATION:PT1H
X-Robots-Tag:noindex
X-PUBLISHED-TTL:PT1H
BEGIN:VTIMEZONE
TZID:UTC
BEGIN:STANDARD
TZOFFSETFROM:+0000
TZOFFSETTO:+0000
TZNAME:UTC
DTSTART:20230101T000000
END:STANDARD
END:VTIMEZONE
BEGIN:VEVENT
DTSTART;TZID=UTC:20240110T120000
DTEND;TZID=UTC:20240110T130000
DTSTAMP:20260423T190010
CREATED:20231204T195907Z
LAST-MODIFIED:20231204T195907Z
UID:6852-1704888000-1704891600@varietyclc.org
SUMMARY:Tips and Tricks for Managing Behaviors at Home
DESCRIPTION:Join us for a virtual workshop presented by Madeline Logan\, M.S. Ed.\, and Cristen Trager\, M.S. Ed.\, on January 10\, 2024\, from 12pm-1pm. \nThis workshop will go over strategies to support your child at home. We will discuss detailed strategies and simple positive behavior systems to help your child during a behavior and to prevent future behaviors. This workshop will give you tools and strategies that can be used easily at home as well as during family outings. \nCLICK HERE FOR DETAILS AND TO RSVP.
URL:https://varietyclc.org/event/tips-and-tricks-for-managing-behaviors-at-home/
END:VEVENT
END:VCALENDAR