BEGIN:VCALENDAR
VERSION:2.0
PRODID:-//Variety Child Learning Center - ECPv6.15.20//NONSGML v1.0//EN
CALSCALE:GREGORIAN
METHOD:PUBLISH
X-WR-CALNAME:Variety Child Learning Center
X-ORIGINAL-URL:https://varietyclc.org
X-WR-CALDESC:Events for Variety Child Learning Center
REFRESH-INTERVAL;VALUE=DURATION:PT1H
X-Robots-Tag:noindex
X-PUBLISHED-TTL:PT1H
BEGIN:VTIMEZONE
TZID:UTC
BEGIN:STANDARD
TZOFFSETFROM:+0000
TZOFFSETTO:+0000
TZNAME:UTC
DTSTART:20230101T000000
END:STANDARD
END:VTIMEZONE
BEGIN:VEVENT
DTSTART;TZID=UTC:20240109T120000
DTEND;TZID=UTC:20240109T130000
DTSTAMP:20260423T190003
CREATED:20231213T154218Z
LAST-MODIFIED:20231213T154218Z
UID:6875-1704801600-1704805200@varietyclc.org
SUMMARY:Parent Autism Support Group
DESCRIPTION:The ASD support group provides a welcoming environment for parents and other caregivers of children with ASD to meet\, share experiences\, ask questions\, and receive support and discuss topics of choice. \nThis group will be held once monthly from 12pm-1pm\, the second Tuesday of the month via zoom. \nClick here for details and to register!
URL:https://varietyclc.org/event/parent-autism-support-group/
END:VEVENT
END:VCALENDAR