BEGIN:VCALENDAR
VERSION:2.0
PRODID:-//Variety Child Learning Center - ECPv6.15.20//NONSGML v1.0//EN
CALSCALE:GREGORIAN
METHOD:PUBLISH
X-WR-CALNAME:Variety Child Learning Center
X-ORIGINAL-URL:https://varietyclc.org
X-WR-CALDESC:Events for Variety Child Learning Center
REFRESH-INTERVAL;VALUE=DURATION:PT1H
X-Robots-Tag:noindex
X-PUBLISHED-TTL:PT1H
BEGIN:VTIMEZONE
TZID:UTC
BEGIN:STANDARD
TZOFFSETFROM:+0000
TZOFFSETTO:+0000
TZNAME:UTC
DTSTART:20220101T000000
END:STANDARD
END:VTIMEZONE
BEGIN:VEVENT
DTSTART;TZID=UTC:20231204T170000
DTEND;TZID=UTC:20240101T230000
DTSTAMP:20260423T180943
CREATED:20231204T174524Z
LAST-MODIFIED:20231204T174524Z
UID:6847-1701709200-1704150000@varietyclc.org
SUMMARY:Holiday Lights Display
DESCRIPTION:Be sure to drive by to view this incredible Holiday Lights Display and make a donation to Variety Child Learning Center!
URL:https://varietyclc.org/event/holiday-lights-display/
END:VEVENT
END:VCALENDAR