BEGIN:VCALENDAR
VERSION:2.0
PRODID:-//Variety Child Learning Center - ECPv6.15.20//NONSGML v1.0//EN
CALSCALE:GREGORIAN
METHOD:PUBLISH
X-WR-CALNAME:Variety Child Learning Center
X-ORIGINAL-URL:https://varietyclc.org
X-WR-CALDESC:Events for Variety Child Learning Center
REFRESH-INTERVAL;VALUE=DURATION:PT1H
X-Robots-Tag:noindex
X-PUBLISHED-TTL:PT1H
BEGIN:VTIMEZONE
TZID:UTC
BEGIN:STANDARD
TZOFFSETFROM:+0000
TZOFFSETTO:+0000
TZNAME:UTC
DTSTART:20220101T000000
END:STANDARD
END:VTIMEZONE
BEGIN:VEVENT
DTSTART;VALUE=DATE:20231115
DTEND;VALUE=DATE:20231116
DTSTAMP:20260423T164853
CREATED:20231108T185449Z
LAST-MODIFIED:20231108T185449Z
UID:6764-1700006400-1700092799@varietyclc.org
SUMMARY:Wacky Wednesday
DESCRIPTION:We’re feeling Wacky at Syosset and Gallow this month! Celebrate with a different themes each Wednesday. \nNovember 15 – Sports Day (represent your favorite team)
URL:https://varietyclc.org/event/wacky-wednesday-3/
END:VEVENT
BEGIN:VEVENT
DTSTART;TZID=UTC:20231115T100000
DTEND;TZID=UTC:20231115T110000
DTSTAMP:20260423T164853
CREATED:20231006T155031Z
LAST-MODIFIED:20231006T155031Z
UID:6662-1700042400-1700046000@varietyclc.org
SUMMARY:Virtual Grandparents' Group
DESCRIPTION:Join us for the opportunity to discuss concerns\, share ideas and gain information! \nThe group will meet for four sessions via Zoom. \nWednesdays\, October 25\, November 1\, November 8 and November 15.\n10:00 – 11:00 A.M. \nCLICK HERE FOR DETAILS. \nIf you have any questions\, please call Angela Hamel\, Social Worker\, VCLC Family Services\, at 516-921-7171\, Extension 2179.
URL:https://varietyclc.org/event/virtual-grandparents-group-4/
END:VEVENT
END:VCALENDAR