BEGIN:VCALENDAR
VERSION:2.0
PRODID:-//Variety Child Learning Center - ECPv6.15.20//NONSGML v1.0//EN
CALSCALE:GREGORIAN
METHOD:PUBLISH
X-WR-CALNAME:Variety Child Learning Center
X-ORIGINAL-URL:https://varietyclc.org
X-WR-CALDESC:Events for Variety Child Learning Center
REFRESH-INTERVAL;VALUE=DURATION:PT1H
X-Robots-Tag:noindex
X-PUBLISHED-TTL:PT1H
BEGIN:VTIMEZONE
TZID:UTC
BEGIN:STANDARD
TZOFFSETFROM:+0000
TZOFFSETTO:+0000
TZNAME:UTC
DTSTART:20220101T000000
END:STANDARD
END:VTIMEZONE
BEGIN:VEVENT
DTSTART;TZID=UTC:20231004T180000
DTEND;TZID=UTC:20231004T193000
DTSTAMP:20260423T152212
CREATED:20231002T153559Z
LAST-MODIFIED:20231002T153559Z
UID:6638-1696442400-1696447800@varietyclc.org
SUMMARY:Back to School Night
DESCRIPTION:Join for Back to School Night in our Syosset and Levittown locations! \nWednesday\, October 4\, 2023\n6:00-7:30 p.m. \nMeet your child’s teachers and related service therapists\, learn about your child’s day and curriculum\, see their classroom and sign up for parent-teacher conferences. \nCLICK HERE FOR SYOSSET DETAILS. \nCLICK HERE FOR LEVITTOWN DETAILS.
URL:https://varietyclc.org/event/back-to-school-night/
END:VEVENT
END:VCALENDAR